BEGIN:VCALENDAR
VERSION:2.0
PRODID:-//Shrewsbury and West Shropshire CAMRA - ECPv6.15.20//NONSGML v1.0//EN
CALSCALE:GREGORIAN
METHOD:PUBLISH
X-WR-CALNAME:Shrewsbury and West Shropshire CAMRA
X-ORIGINAL-URL:https://saws.camra.org.uk
X-WR-CALDESC:Events for Shrewsbury and West Shropshire CAMRA
REFRESH-INTERVAL;VALUE=DURATION:PT1H
X-Robots-Tag:noindex
X-PUBLISHED-TTL:PT1H
BEGIN:VTIMEZONE
TZID:Europe/London
BEGIN:DAYLIGHT
TZOFFSETFROM:+0000
TZOFFSETTO:+0100
TZNAME:BST
DTSTART:20240331T010000
END:DAYLIGHT
BEGIN:STANDARD
TZOFFSETFROM:+0100
TZOFFSETTO:+0000
TZNAME:GMT
DTSTART:20241027T010000
END:STANDARD
BEGIN:DAYLIGHT
TZOFFSETFROM:+0000
TZOFFSETTO:+0100
TZNAME:BST
DTSTART:20250330T010000
END:DAYLIGHT
BEGIN:STANDARD
TZOFFSETFROM:+0100
TZOFFSETTO:+0000
TZNAME:GMT
DTSTART:20251026T010000
END:STANDARD
BEGIN:DAYLIGHT
TZOFFSETFROM:+0000
TZOFFSETTO:+0100
TZNAME:BST
DTSTART:20260329T010000
END:DAYLIGHT
BEGIN:STANDARD
TZOFFSETFROM:+0100
TZOFFSETTO:+0000
TZNAME:GMT
DTSTART:20261025T010000
END:STANDARD
END:VTIMEZONE
BEGIN:VEVENT
DTSTART;TZID=Europe/London:20250513T190000
DTEND;TZID=Europe/London:20250513T210000
DTSTAMP:20260421T095612
CREATED:20250312T112103Z
LAST-MODIFIED:20250312T112133Z
UID:9469-1747162800-1747170000@saws.camra.org.uk
SUMMARY:Committee Meeting
DESCRIPTION:Shrewsbury & West Shropshire CAMRA committee meeting at the Prince of Wales. All members welcome. \n\n\n\nNote that the start time for the committee meetings will now be 7:15pm\, to give people who are getting the train to Shrewsbury time to walk across town. \n\n\n\nFor more information on what happens in Committee meetings\, please see the Branch Management section in the Our Branch page.
URL:https://saws.camra.org.uk/whats-on/committee-meeting-29/
LOCATION:Prince of Wales\, 30 Bynner St\, Shrewsbury\, SY3 7NZ\, United Kingdom
CATEGORIES:Branch Events,Committee Meetings,Meetings
ORGANIZER;CN="Contact the Meeting Organiser%3A":MAILTO:chair@saws.camra.org.uk
END:VEVENT
BEGIN:VEVENT
DTSTART;TZID=Europe/London:20250515T103000
DTEND;TZID=Europe/London:20250515T180000
DTSTAMP:20260421T095612
CREATED:20241130T223235Z
LAST-MODIFIED:20250514T205722Z
UID:8778-1747305000-1747332000@saws.camra.org.uk
SUMMARY:Public Transport Group Trip to Whitchurch
DESCRIPTION:Social and beer scoring trip by public transport from Shrewsbury to Whitchurch. Members and non-members welcome! \n\n\n\nTrip Details \n\n\n\nAs the White Bear still seems to be shut\, it leaves us with a maximum of 8 pubs serving cask ale to get round. \n\n\n\nTravel Information \n\n\n\nMost people travelling from Shrewsbury and beyond will be getting to Whitchurch by train\, leaving a 10 minute walk from Whitchurch railway station into the town. The other option is by bus\, which may be cheaper and takes you right into Whitchurch town centre but takes nearly three times as long as the train. \n\n\n\nShrewsbury to Whitchurch by Train:  From platform 7B\, get the 10:19 train which arrives in Whitchurch at 10:47 \n\n\n\nShrewsbury to Whitchurch by Bus:    From Stand L\, either the Arriva 511 bus at 9:45 arriving at Whitchurch Bus Station at 11:10\, or Arriva 512 at 10:45 arriving in Whitchurch at 12:00 \n\n\n\nWhitchurch to Shrewsbury by Train:   Either the 16:26 arriving in Shrewsbury at 16:45\, or the 17:41 arriving in Shrewsbury at 18:12\, or the 18:28 arriving in Shrewsbury at 18:49 \n\n\n\nWhitchurch to Shrewsbury by Bus:    The 511 bus from the Bus Station outside Tesco at 16:32 arriving at 18:02 \n\n\n\nPubs \n\n\n\nA suggested order of pubs is shown below. The Crafty Dragon have kindly offered to open an hour earlier than normal for us at 3pm. \n\n\n\nRed Cow  (opens at 10:00) \n\n\n\nBlack Bear   (opens at 11:30) \n\n\n\nCock and Greyhound   (opens at 12:00) \n\n\n\nOld Town Hall Vaults   (opens at 12:00) \n\n\n\nBull’s Head   (opens at 12:00) \n\n\n\nOld Eagles   (opens at 11:00) \n\n\n\nCrafty Dragon   (will open at 15:00) \n\n\n\nWheatsheaf   (opens at 12:00) \n\n\n\nFor more information about our Public Transport Group (PTG) trips\, please see the About Our Events page.
URL:https://saws.camra.org.uk/whats-on/public-transport-group-trip-to-whitchurch-5/
LOCATION:Trip starts at Shrewsbury Railway Station\, Castle Foregate\, Shrewsbury\, Shropshire\, SY1 2DQ\, United Kingdom
CATEGORIES:Branch Events,PTG Trips
ORGANIZER;CN="Contact the PTG Organiser%3A":MAILTO:ptg@saws.camra.org.uk
END:VEVENT
BEGIN:VEVENT
DTSTART;TZID=Europe/London:20250520T190000
DTEND;TZID=Europe/London:20250520T210000
DTSTAMP:20260421T095612
CREATED:20250312T113446Z
LAST-MODIFIED:20250312T113517Z
UID:9477-1747767600-1747774800@saws.camra.org.uk
SUMMARY:Festival Working Party
DESCRIPTION:Shrewsbury & West Shropshire CAMRA festival working party\, organising the next Shrewsbury Beer Festival. 7:15pm start at the Prince of Wales in Shrewsbury. Members and non-members welcome. \n\n\n\nFor more information on these meetings\, see the Festival Working Party section on the About Our Events page.
URL:https://saws.camra.org.uk/whats-on/festival-working-party-25/
LOCATION:Prince of Wales\, 30 Bynner St\, Shrewsbury\, SY3 7NZ\, United Kingdom
CATEGORIES:Branch Events,Festival Meetings,Meetings
ORGANIZER;CN="Contact the Meeting Organiser%3A":MAILTO:chair@saws.camra.org.uk
END:VEVENT
BEGIN:VEVENT
DTSTART;TZID=Europe/London:20250523T190000
DTEND;TZID=Europe/London:20250523T233000
DTSTAMP:20260421T095612
CREATED:20241130T230032Z
LAST-MODIFIED:20241130T230034Z
UID:8802-1748026800-1748043000@saws.camra.org.uk
SUMMARY:Beer Bus Trip to the Strettons
DESCRIPTION:Social and beer scoring trip by minibus from Shrewsbury to the Strettons. Departing from Salopian Bar at 7pm. Members and non-members welcome. \n\n\n\nPlaces must be pre-booked with Dave Ricketts – he can be contacted using the email address below\, or by phone after 4:30pm (SMS text preferred). \n\n\n\nFor more information about our Beer Bus trips\, please see the About Our Events page.
URL:https://saws.camra.org.uk/whats-on/beer-bus-trip-to-the-strettons-2/
LOCATION:Trip starts at Salopian Bar\, 29 Smithfield Road\, Shrewsbury\, Shropshire\, SY1 1PB\, United Kingdom
CATEGORIES:Beer Bus Trips,Branch Events
ORGANIZER;CN="Contact the Beer Bus Organiser%3A":MAILTO:social@saws.camra.org.uk
END:VEVENT
BEGIN:VEVENT
DTSTART;TZID=Europe/London:20250527T190000
DTEND;TZID=Europe/London:20250527T210000
DTSTAMP:20260421T095612
CREATED:20250312T112729Z
LAST-MODIFIED:20250521T075102Z
UID:9473-1748372400-1748379600@saws.camra.org.uk
SUMMARY:Branch Meeting
DESCRIPTION:Shrewsbury & West Shropshire CAMRA branch meeting at the Admiral Benbow in Shrewsbury. Members and non-members welcome. \n\n\n\nNote that the start time for branch meetings will now be 7:15pm\, to give people who are getting the train to Shrewsbury time to walk across town. \n\n\n\nFor more information on what happens in Branch meetings\, please see the Branch Management section in the Our Branch page.
URL:https://saws.camra.org.uk/whats-on/branch-meeting-27/
LOCATION:Admiral Benbow\, 24 Swan Hill\, Shrewsbury\, Shropshire\, SY1 1NF\, United Kingdom
CATEGORIES:Branch Events,Branch Meetings,Meetings
ORGANIZER;CN="Contact the Meeting Organiser%3A":MAILTO:chair@saws.camra.org.uk
END:VEVENT
END:VCALENDAR