BEGIN:VCALENDAR
VERSION:2.0
PRODID:-//Shrewsbury and West Shropshire CAMRA - ECPv6.15.20//NONSGML v1.0//EN
CALSCALE:GREGORIAN
METHOD:PUBLISH
X-ORIGINAL-URL:https://saws.camra.org.uk
X-WR-CALDESC:Events for Shrewsbury and West Shropshire CAMRA
REFRESH-INTERVAL;VALUE=DURATION:PT1H
X-Robots-Tag:noindex
X-PUBLISHED-TTL:PT1H
BEGIN:VTIMEZONE
TZID:Europe/London
BEGIN:DAYLIGHT
TZOFFSETFROM:+0000
TZOFFSETTO:+0100
TZNAME:BST
DTSTART:20240331T010000
END:DAYLIGHT
BEGIN:STANDARD
TZOFFSETFROM:+0100
TZOFFSETTO:+0000
TZNAME:GMT
DTSTART:20241027T010000
END:STANDARD
BEGIN:DAYLIGHT
TZOFFSETFROM:+0000
TZOFFSETTO:+0100
TZNAME:BST
DTSTART:20250330T010000
END:DAYLIGHT
BEGIN:STANDARD
TZOFFSETFROM:+0100
TZOFFSETTO:+0000
TZNAME:GMT
DTSTART:20251026T010000
END:STANDARD
BEGIN:DAYLIGHT
TZOFFSETFROM:+0000
TZOFFSETTO:+0100
TZNAME:BST
DTSTART:20260329T010000
END:DAYLIGHT
BEGIN:STANDARD
TZOFFSETFROM:+0100
TZOFFSETTO:+0000
TZNAME:GMT
DTSTART:20261025T010000
END:STANDARD
END:VTIMEZONE
BEGIN:VEVENT
DTSTART;TZID=Europe/London:20250805T190000
DTEND;TZID=Europe/London:20250805T210000
DTSTAMP:20260421T170701
CREATED:20250618T204809Z
LAST-MODIFIED:20250618T204836Z
UID:9782-1754420400-1754427600@saws.camra.org.uk
SUMMARY:Festival Working Party
DESCRIPTION:Shrewsbury & West Shropshire CAMRA festival working party\, organising the next Shrewsbury Beer Festival. 7:15pm start at the Prince of Wales in Shrewsbury. Members and non-members welcome. \n\n\n\nFor more information on these meetings\, see the Festival Working Party section on the About Our Events page.
URL:https://saws.camra.org.uk/whats-on/festival-working-party-30/
LOCATION:Prince of Wales\, 30 Bynner St\, Shrewsbury\, SY3 7NZ\, United Kingdom
CATEGORIES:Branch Events,Festival Meetings,Meetings
ORGANIZER;CN="Contact the Meeting Organiser%3A":MAILTO:chair@saws.camra.org.uk
END:VEVENT
BEGIN:VEVENT
DTSTART;TZID=Europe/London:20250812T190000
DTEND;TZID=Europe/London:20250812T210000
DTSTAMP:20260421T170701
CREATED:20250618T201954Z
LAST-MODIFIED:20250618T202024Z
UID:9768-1755025200-1755032400@saws.camra.org.uk
SUMMARY:Committee Meeting
DESCRIPTION:Shrewsbury & West Shropshire CAMRA committee meeting at the Prince of Wales. All members welcome. \n\n\n\nNote that the start time for the committee meetings will now be 7:15pm\, to give people who are getting the train to Shrewsbury time to walk across town. \n\n\n\nFor more information on what happens in Committee meetings\, please see the Branch Management section in the Our Branch page.
URL:https://saws.camra.org.uk/whats-on/committee-meeting-32/
LOCATION:Prince of Wales\, 30 Bynner St\, Shrewsbury\, SY3 7NZ\, United Kingdom
CATEGORIES:Branch Events,Committee Meetings,Meetings
ORGANIZER;CN="Contact the Meeting Organiser%3A":MAILTO:chair@saws.camra.org.uk
END:VEVENT
BEGIN:VEVENT
DTSTART;TZID=Europe/London:20250819T190000
DTEND;TZID=Europe/London:20250819T210000
DTSTAMP:20260421T170701
CREATED:20250618T205120Z
LAST-MODIFIED:20250618T205153Z
UID:9784-1755630000-1755637200@saws.camra.org.uk
SUMMARY:Festival Working Party
DESCRIPTION:Shrewsbury & West Shropshire CAMRA festival working party\, organising the next Shrewsbury Beer Festival. 7:15pm start at the Prince of Wales in Shrewsbury. Members and non-members welcome. \n\n\n\nFor more information on these meetings\, see the Festival Working Party section on the About Our Events page.
URL:https://saws.camra.org.uk/whats-on/festival-working-party-31/
LOCATION:Prince of Wales\, 30 Bynner St\, Shrewsbury\, SY3 7NZ\, United Kingdom
CATEGORIES:Branch Events,Festival Meetings,Meetings
ORGANIZER;CN="Contact the Meeting Organiser%3A":MAILTO:chair@saws.camra.org.uk
END:VEVENT
BEGIN:VEVENT
DTSTART;TZID=Europe/London:20250821T100000
DTEND;TZID=Europe/London:20250821T180000
DTSTAMP:20260421T170701
CREATED:20241130T223846Z
LAST-MODIFIED:20250814T123330Z
UID:8784-1755770400-1755799200@saws.camra.org.uk
SUMMARY:Public Transport Group Trip to Bishops Castle & Pontesbury
DESCRIPTION:Social and beer scoring trip by public transport from Shrewsbury to Bishops Castle & Pontesbury. Members and non-members welcome! \n\n\n\nThis month’s PTG trip will on Thursday 21st August to Bishops Castle and Pontesbury by bus. This is going to be a more relaxed trip than normal\, as we only have 2 pubs available to visit in Bishops Castle due to the Three Tuns being temporarily closed. However\, the two open pubs include the Castle Hotel which is a current GBG entry and has one of the best beer gardens in our branch area\, and the Six Bells which normally has a choice of 5 real ales. We will also be calling in at Pontesbury on the way back to visit the Plough and the Nag’s Head\, both decent pubs each with 3 ales on.  \n\n\n\nTravel Information \n\n\n\nWe will meet at Shrewsbury bus station at 10:00\, to get the Bishops Castle bus\, usually from Stand N. All buses are run by Minsterley Motors. \n\n\n\nShrewsbury to Bishops Castle:   10:05  553 bus from Stand N\, arriving at 11:05 \n\n\n\nBishops Castle to Pontesbury:   13:30  553 bus from opposite the Boar’s Head\, arriving at 14:03 \n\n\n\nPontesbury to Shrewsbury:   16:13  553 bus from outside the Nag’s Head\, arriving at 16:40 \n\n\n\nPubs \n\n\n\nBishops Castle: \n\n\n\nCastle Hotel   (opens at 11:00) \n\n\n\nSix Bells   (opens at 12:00) \n\n\n\nPontesbury: \n\n\n\nPlough   (opens at 2:00pm) \n\n\n\nNag’s Head   (opens at 12:00) \n\n\n\nHope to see you there! \n\n\n\nFor more information about our Public Transport Group (PTG) trips\, please see the About Our Events page.
URL:https://saws.camra.org.uk/whats-on/public-transport-group-trip-to-bishops-castle-pontesbury-3/
LOCATION:Trip starts at Shrewsbury Bus Station\, Raven Meadows\, Shrewsbury\, Shropshire\, SY1 1PE\, United Kingdom
CATEGORIES:Branch Events,PTG Trips
ORGANIZER;CN="Contact the PTG Organiser%3A":MAILTO:ptg@saws.camra.org.uk
END:VEVENT
BEGIN:VEVENT
DTSTART;TZID=Europe/London:20250826T190000
DTEND;TZID=Europe/London:20250826T210000
DTSTAMP:20260421T170701
CREATED:20250618T202650Z
LAST-MODIFIED:20250618T202719Z
UID:9772-1756234800-1756242000@saws.camra.org.uk
SUMMARY:Branch Meeting
DESCRIPTION:Shrewsbury & West Shropshire CAMRA branch meeting at the Cromwell’s Tap House in Shrewsbury (TBC). Members and non-members welcome. \n\n\n\nNote that the start time for branch meetings will now be 7:15pm\, to give people who are getting the train to Shrewsbury time to walk across town. \n\n\n\nFor more information on what happens in Branch meetings\, please see the Branch Management section in the Our Branch page.
URL:https://saws.camra.org.uk/whats-on/branch-meeting-30/
LOCATION:Cromwell’s Tap House\, 11 Dogpole\, Shrewsbury\, Shropshire\, SY1 1EN\, United Kingdom
CATEGORIES:Branch Events,Branch Meetings,Meetings
ORGANIZER;CN="Contact the Meeting Organiser%3A":MAILTO:chair@saws.camra.org.uk
END:VEVENT
BEGIN:VEVENT
DTSTART;TZID=Europe/London:20250829T190000
DTEND;TZID=Europe/London:20250829T233000
DTSTAMP:20260421T170701
CREATED:20241130T231343Z
LAST-MODIFIED:20250803T090827Z
UID:8810-1756494000-1756510200@saws.camra.org.uk
SUMMARY:Beer Bus Trip to Wem and Ellesmere
DESCRIPTION:Social and beer scoring trip by minibus from Shrewsbury to Wem and Ellesmere. Note that the date of this trip has been changed from the 15th to 29th August due to clashing with other events. Departing at 7pm from the bus stop layby on Smithfield Road\, just the other side of the Frankwell footbridge from the Salopian Bar. Members and non-members welcome. \n\n\n\nPlaces must be pre-booked with Dave Ricketts – he can be contacted using the email address below\, or by phone after 4:30pm (SMS text preferred). \n\n\n\nFor more information about our Beer Bus trips\, please see the About Our Events page.
URL:https://saws.camra.org.uk/whats-on/beer-bus-trip-to-wem-and-ellesmere-3/
LOCATION:Trip starts at Salopian Bar\, 29 Smithfield Road\, Shrewsbury\, Shropshire\, SY1 1PB\, United Kingdom
CATEGORIES:Beer Bus Trips,Branch Events
ORGANIZER;CN="Contact the Beer Bus Organiser%3A":MAILTO:social@saws.camra.org.uk
END:VEVENT
END:VCALENDAR