BEGIN:VCALENDAR
VERSION:2.0
PRODID:-//Shrewsbury and West Shropshire CAMRA - ECPv6.15.20//NONSGML v1.0//EN
CALSCALE:GREGORIAN
METHOD:PUBLISH
X-ORIGINAL-URL:https://saws.camra.org.uk
X-WR-CALDESC:Events for Shrewsbury and West Shropshire CAMRA
REFRESH-INTERVAL;VALUE=DURATION:PT1H
X-Robots-Tag:noindex
X-PUBLISHED-TTL:PT1H
BEGIN:VTIMEZONE
TZID:Europe/London
BEGIN:DAYLIGHT
TZOFFSETFROM:+0000
TZOFFSETTO:+0100
TZNAME:BST
DTSTART:20240331T010000
END:DAYLIGHT
BEGIN:STANDARD
TZOFFSETFROM:+0100
TZOFFSETTO:+0000
TZNAME:GMT
DTSTART:20241027T010000
END:STANDARD
BEGIN:DAYLIGHT
TZOFFSETFROM:+0000
TZOFFSETTO:+0100
TZNAME:BST
DTSTART:20250330T010000
END:DAYLIGHT
BEGIN:STANDARD
TZOFFSETFROM:+0100
TZOFFSETTO:+0000
TZNAME:GMT
DTSTART:20251026T010000
END:STANDARD
BEGIN:DAYLIGHT
TZOFFSETFROM:+0000
TZOFFSETTO:+0100
TZNAME:BST
DTSTART:20260329T010000
END:DAYLIGHT
BEGIN:STANDARD
TZOFFSETFROM:+0100
TZOFFSETTO:+0000
TZNAME:GMT
DTSTART:20261025T010000
END:STANDARD
END:VTIMEZONE
BEGIN:VEVENT
DTSTART;TZID=Europe/London:20250902T190000
DTEND;TZID=Europe/London:20250902T210000
DTSTAMP:20260425T115021
CREATED:20250618T205503Z
LAST-MODIFIED:20250618T205536Z
UID:9786-1756839600-1756846800@saws.camra.org.uk
SUMMARY:Festival Working Party
DESCRIPTION:Shrewsbury & West Shropshire CAMRA festival working party\, organising the next Shrewsbury Beer Festival. 7:15pm start at the Prince of Wales in Shrewsbury. Members and non-members welcome. \n\n\n\nFor more information on these meetings\, see the Festival Working Party section on the About Our Events page.
URL:https://saws.camra.org.uk/whats-on/festival-working-party-32/
LOCATION:Prince of Wales\, 30 Bynner St\, Shrewsbury\, SY3 7NZ\, United Kingdom
CATEGORIES:Branch Events,Festival Meetings,Meetings
ORGANIZER;CN="Contact the Meeting Organiser%3A":MAILTO:chair@saws.camra.org.uk
END:VEVENT
BEGIN:VEVENT
DTSTART;TZID=Europe/London:20250906T113000
DTEND;TZID=Europe/London:20250906T180000
DTSTAMP:20260425T115021
CREATED:20241130T231746Z
LAST-MODIFIED:20250903T132151Z
UID:8812-1757158200-1757181600@saws.camra.org.uk
SUMMARY:Beer Bus Trip to the Inner Loop
DESCRIPTION:Social and beer scoring trip by minibus from Shrewsbury to the “Inner Loop”\, visiting rural pubs on the east side of Shrewsbury. Please note that this is a Saturday trip. Departing from the bus stop layby on Smithfield Road\, just the other side of the Frankwell footbridge from the Salopian Bar\, at 11:30am. Members and non-members welcome. \n\n\n\nWe are hoping to visit the Mytton and Mermaid at Atcham\, Horsehoes at Uckington\, Hare and Hounds at Withington\, the Haughmond at Upton Magna\, Corbet Arms at Uffington\, Stanton Arms at Stanton-upon-Hine-Heath\, and possibly the Tiddly at Ellerdine Heath. \n\n\n\nPlaces must be pre-booked with Dave Ricketts – he can be contacted using the email address below\, or by phone after 4:30pm (SMS text preferred). \n\n\n\nFor more information about our Beer Bus trips\, please see the About Our Events page.
URL:https://saws.camra.org.uk/whats-on/beer-bus-trip-to-the-inner-loop/
LOCATION:Salopian Brewery\, Old Station Yard\, Station Road\, Shrewsbury\, Shropshire\, SY4 3DD\, United Kingdom
CATEGORIES:Beer Bus Trips,Branch Events
ORGANIZER;CN="Contact the Beer Bus Organiser%3A":MAILTO:social@saws.camra.org.uk
END:VEVENT
BEGIN:VEVENT
DTSTART;TZID=Europe/London:20250909T190000
DTEND;TZID=Europe/London:20250909T210000
DTSTAMP:20260425T115021
CREATED:20250618T203631Z
LAST-MODIFIED:20250618T203706Z
UID:9776-1757444400-1757451600@saws.camra.org.uk
SUMMARY:Committee Meeting
DESCRIPTION:Shrewsbury & West Shropshire CAMRA committee meeting at the Prince of Wales. All members welcome. \n\n\n\nNote that the start time for the committee meetings will now be 7:15pm\, to give people who are getting the train to Shrewsbury time to walk across town. \n\n\n\nFor more information on what happens in Committee meetings\, please see the Branch Management section in the Our Branch page.
URL:https://saws.camra.org.uk/whats-on/committee-meeting-33/
LOCATION:Prince of Wales\, 30 Bynner St\, Shrewsbury\, SY3 7NZ\, United Kingdom
CATEGORIES:Branch Events,Committee Meetings,Meetings
ORGANIZER;CN="Contact the Meeting Organiser%3A":MAILTO:chair@saws.camra.org.uk
END:VEVENT
BEGIN:VEVENT
DTSTART;TZID=Europe/London:20250916T190000
DTEND;TZID=Europe/London:20250916T210000
DTSTAMP:20260425T115021
CREATED:20250618T205820Z
LAST-MODIFIED:20250618T205849Z
UID:9788-1758049200-1758056400@saws.camra.org.uk
SUMMARY:Festival Working Party
DESCRIPTION:Shrewsbury & West Shropshire CAMRA festival working party\, organising the next Shrewsbury Beer Festival. 7:15pm start at the Prince of Wales in Shrewsbury. Members and non-members welcome. \n\n\n\nFor more information on these meetings\, see the Festival Working Party section on the About Our Events page.
URL:https://saws.camra.org.uk/whats-on/festival-working-party-33/
LOCATION:Prince of Wales\, 30 Bynner St\, Shrewsbury\, SY3 7NZ\, United Kingdom
CATEGORIES:Branch Events,Festival Meetings,Meetings
ORGANIZER;CN="Contact the Meeting Organiser%3A":MAILTO:chair@saws.camra.org.uk
END:VEVENT
BEGIN:VEVENT
DTSTART;TZID=Europe/London:20250918T103000
DTEND;TZID=Europe/London:20250918T173000
DTSTAMP:20260425T115021
CREATED:20241130T224039Z
LAST-MODIFIED:20250915T122245Z
UID:8786-1758191400-1758216600@saws.camra.org.uk
SUMMARY:Public Transport Group Trip to the Strettons
DESCRIPTION:Social and beer scoring trip by public transport from Shrewsbury to the Strettons. Members and non-members welcome! \n\n\n\nThis month’s PTG trip will on Thursday 18th September to the Strettons by bus. We will have at 8 pubs to visit in Little Stretton\, Church Stretton and All Stretton. These will include two Good Beer Guide pubs: the Green Dragon in Little Stretton and the Yew Tree in All Stretton. Also\, the Old Bike Shop in Church Stretton has very kindly offered to open an hour earlier for us at 3pm. \n\n\n\nTravel Information \n\n\n\nWe will meet at Shrewsbury bus station around 10:45\, to get the 435 Minsterley Motors bus from Stand N.  \n\n\n\nShrewsbury to Little Stretton:   10:55  435 bus from Stand N\, arriving at the Green Dragon at 11:41 \n\n\n\nLittle Stretton to Church Stretton:   12:50  435 bus from the Ragleth\, arriving at the Church stop at 12:55 \n\n\n\nChurch Stretton to All Stretton:   15:30  435 bus from the Beaumont Road stop\, arriving at 15:35 \n\n\n\nAll Stretton to Shrewsbury:   16:35  435 bus\, arriving at 17:11 \n\n\n\nPubs \n\n\n\nLittle Stretton: \n\n\n\nGreen Dragon   (opens at 11:30) \n\n\n\nRagleth   (opens at 12:00) \n\n\n\nChurch Stretton: \n\n\n\nKing’s Arms   (opens at 12:00) \n\n\n\nBuck’s Head   (opens at 12:00) \n\n\n\nHousmans   (opens at 09:00) \n\n\n\nOld Coppers Malt House   (opens at 12:00) \n\n\n\nOld Bike Shop   (opening earlier for us at 15:00) \n\n\n\nAll Stretton: \n\n\n\nYew Tree   (opens at 2:00pm) \n\n\n\nHope to see you all on the trip. \n\n\n\nFor more information about our Public Transport Group (PTG) trips\, please see the About Our Events page.
URL:https://saws.camra.org.uk/whats-on/public-transport-group-trip-to-the-strettons-3/
LOCATION:Trip starts at Shrewsbury Bus Station\, Raven Meadows\, Shrewsbury\, Shropshire\, SY1 1PE\, United Kingdom
CATEGORIES:Branch Events,PTG Trips
ORGANIZER;CN="Contact the PTG Organiser%3A":MAILTO:ptg@saws.camra.org.uk
END:VEVENT
BEGIN:VEVENT
DTSTART;TZID=Europe/London:20250923T190000
DTEND;TZID=Europe/London:20250923T210000
DTSTAMP:20260425T115021
CREATED:20250618T203140Z
LAST-MODIFIED:20250618T203216Z
UID:9774-1758654000-1758661200@saws.camra.org.uk
SUMMARY:Branch Meeting
DESCRIPTION:Shrewsbury & West Shropshire CAMRA branch meeting at St Mary’s Church in Shrewsbury. Members and non-members welcome. \n\n\n\nNote that the start time for branch meetings will now be 7:15pm\, to give people who are getting the train to Shrewsbury time to walk across town. \n\n\n\nFor more information on what happens in Branch meetings\, please see the Branch Management section in the Our Branch page.
URL:https://saws.camra.org.uk/whats-on/branch-meeting-31/
LOCATION:St. Mary’s Church\, St. Mary’s Street\, Shrewsbury\, Shropshire\, SY1 1DX\, United Kingdom
CATEGORIES:Branch Events,Branch Meetings,Meetings
ORGANIZER;CN="Contact the Meeting Organiser%3A":MAILTO:chair@saws.camra.org.uk
END:VEVENT
BEGIN:VEVENT
DTSTART;TZID=Europe/London:20250924T110000
DTEND;TZID=Europe/London:20250927T210000
DTSTAMP:20260425T115021
CREATED:20241119T123523Z
LAST-MODIFIED:20250919T132111Z
UID:8693-1758711600-1759006800@saws.camra.org.uk
SUMMARY:Shrewsbury Beer Festival
DESCRIPTION:The next Shrewsbury Beer Festival will take place from Wednesday 24th to Saturday 27th September 2025 in the wonderful St. Mary’s church. There will be around 100 real ales to choose from\, as well as a good selection of ciders and perries. For more details\, please see our Festival pages on this website and also on Facebook.
URL:https://saws.camra.org.uk/whats-on/shrewsbury-beer-festival-3/
LOCATION:St. Mary’s Church\, St. Mary’s Street\, Shrewsbury\, Shropshire\, SY1 1DX\, United Kingdom
CATEGORIES:Branch Events,Shrewsbury Beer Festival
ORGANIZER;CN="Contact the Event Organiser (NP)":MAILTO:press@saws.camra.org.uk
END:VEVENT
END:VCALENDAR