BEGIN:VCALENDAR
VERSION:2.0
PRODID:-//Shrewsbury and West Shropshire CAMRA - ECPv6.15.20//NONSGML v1.0//EN
CALSCALE:GREGORIAN
METHOD:PUBLISH
X-WR-CALNAME:Shrewsbury and West Shropshire CAMRA
X-ORIGINAL-URL:https://saws.camra.org.uk
X-WR-CALDESC:Events for Shrewsbury and West Shropshire CAMRA
REFRESH-INTERVAL;VALUE=DURATION:PT1H
X-Robots-Tag:noindex
X-PUBLISHED-TTL:PT1H
BEGIN:VTIMEZONE
TZID:Europe/London
BEGIN:DAYLIGHT
TZOFFSETFROM:+0000
TZOFFSETTO:+0100
TZNAME:BST
DTSTART:20240331T010000
END:DAYLIGHT
BEGIN:STANDARD
TZOFFSETFROM:+0100
TZOFFSETTO:+0000
TZNAME:GMT
DTSTART:20241027T010000
END:STANDARD
BEGIN:DAYLIGHT
TZOFFSETFROM:+0000
TZOFFSETTO:+0100
TZNAME:BST
DTSTART:20250330T010000
END:DAYLIGHT
BEGIN:STANDARD
TZOFFSETFROM:+0100
TZOFFSETTO:+0000
TZNAME:GMT
DTSTART:20251026T010000
END:STANDARD
BEGIN:DAYLIGHT
TZOFFSETFROM:+0000
TZOFFSETTO:+0100
TZNAME:BST
DTSTART:20260329T010000
END:DAYLIGHT
BEGIN:STANDARD
TZOFFSETFROM:+0100
TZOFFSETTO:+0000
TZNAME:GMT
DTSTART:20261025T010000
END:STANDARD
END:VTIMEZONE
BEGIN:VEVENT
DTSTART;TZID=Europe/London:20251206T093000
DTEND;TZID=Europe/London:20251206T200000
DTSTAMP:20260425T164727
CREATED:20250919T120710Z
LAST-MODIFIED:20251119T112126Z
UID:10171-1765013400-1765051200@saws.camra.org.uk
SUMMARY:Loughborough Trip
DESCRIPTION:Shrewsbury and West Shropshire CAMRA and friends trip to Loughborough ( loogabarooga) Saturday 6th December to sample town centre pubs. \n\n\n\nFollowing discussion at the AGM\, travel to and from Loughborough is recommended by rail from Shrewsbury\, OR Wem/ Whitchurch. The organiser\, Philip Hamson\, will be waiting in Loughborough at the railway station whichever route you take. \n\n\n\nSuggested train from Shrewsbury is the 08:59 to Birmingham New Street\, then B’ham New St to Leicester\, then finally Leicester to Loughborough arriving at 11:.26. Return by the same route leaves Loughborough at 17:32 or better\, 18:.30. \n\n\n\nSuggested train from Wem via Whitchurch is the 08:35 to Crewe. 50 minutes wait in the coffee shop/waiting room\, then Crewe to Derby\, Derby to Loughborough – arriving in Loughborough at 11:51. Philip will be waiting for you outside Loughborough Station. Suitable returns leave Loughborough at 17:50\, or if you miss it\, 17:54 same route back\, arriving in  Wem at 20:36.  \n\n\n\nThe suggested pubs and route map are shown below. Beers to look out for will be published closer to the day.  \n\n\n\nThe cost to you will depend on what railcard\, if any\, you possess or what deals you can get on the ticket splitting sites\, or what sort of group you can form.  \n\n\n\n \n\n\n\n \n\n\n\n\n\n\n\n \n\n\n\nOne lap is 1.4 miles. \n\n\n\nSuggested Pubs: \n\n\n\nThe Amber rooms at drop off Lloyds No1 don’t forget your Camra vouchers\, shown with red circle. \n\n\n\nOpposite the Amber Rooms \n\n\n\nThe Swan in the rushes\, Castle Rock don’t forget your Camra vouchers \n\n\n\nThe Needle and Pin micropub Don’t miss record player upstairs \n\n\n\nThe mini monocle\, Nottingham also good music \n\n\n\nThe White Hart\, free\, beer garden \n\n\n\nNot shown but next door The 3 nuns\, Everards \n\n\n\nMoonface brewery and Tap micropub with tour Moonface \n\n\n\nThe organ Grinder\, Blue Monkey \n\n\n\nThe wheeltapper\, free \n\n\n\nFood: \n\n\n\nThe Amber rooms serve the usual wethermenu \n\n\n\nThe Swan has a lunchtime menu of hot and cold food \n\n\n\nThe wheeltapper will allow you to order pizza and might order for you. Do so on arrival. \n\n\n\nIn town also note Greggs\, German Donner and fish and chips notably\, Devonshire fisheries corner of cattle market\, granby st. \n\n\n\nArtefacts to note: \n\n\n\nVarious benches and murals celebrating great central railway and Ladybird books \,printed in Loughborough \n\n\n\nSock man statue \n\n\n\nNote Loughborough market will be on and the town centre may be full in addition with student undergraduates. \n\n\n\nDeparture from outside the Amber rooms at 6.00 p.m. promptly.
URL:https://saws.camra.org.uk/whats-on/loughborough-trip/
LOCATION:Shropshire
CATEGORIES:Branch Events
ORGANIZER;CN="Contact the Event Organiser (PH)":MAILTO:membership@saws.camra.org.uk
END:VEVENT
BEGIN:VEVENT
DTSTART;TZID=Europe/London:20251212T190000
DTEND;TZID=Europe/London:20251212T233000
DTSTAMP:20260425T164727
CREATED:20241130T232358Z
LAST-MODIFIED:20251212T103734Z
UID:8818-1765566000-1765582200@saws.camra.org.uk
SUMMARY:Beer Bus Trip to Whitchurch
DESCRIPTION:Shrewsbury & West Shropshire CAMRA social and beer scoring trip by minibus from Shrewsbury to Whitchurch. Departing at 7pm from the bus stop layby on Smithfield Road\, just the other side of the Frankwell footbridge from the Salopian Bar. Members and non-members welcome. \n\n\n\nPlaces must be pre-booked with Dave Ricketts – he can be contacted using the email address below\, or by phone after 4:30pm (SMS text preferred). \n\n\n\nFor more information about our Beer Bus trips\, please see the About Our Events page.
URL:https://saws.camra.org.uk/whats-on/beer-bus-trip-to-whitchurch-3/
LOCATION:Trip starts at Salopian Bar\, 29 Smithfield Road\, Shrewsbury\, Shropshire\, SY1 1PB\, United Kingdom
CATEGORIES:Branch Events
ORGANIZER;CN="Contact the Beer Bus Organiser%3A":MAILTO:social@saws.camra.org.uk
END:VEVENT
BEGIN:VEVENT
DTSTART;TZID=Europe/London:20251216T190000
DTEND;TZID=Europe/London:20251216T210000
DTSTAMP:20260425T164727
CREATED:20251015T091928Z
LAST-MODIFIED:20251204T233402Z
UID:10691-1765911600-1765918800@saws.camra.org.uk
SUMMARY:Committee & Branch Meeting
DESCRIPTION:Shrewsbury & West Shropshire CAMRA combined Committee and Branch meeting\, due to Christmas getting in the way of our normal Branch meeting date. The venue is now confirmed as the Bricklayer’s on Abbey Foregate\, Shrewsbury. Members and non-members welcome. \n\n\n\nNote that the start time for meetings will now be 7:15pm\, to give people who are getting the train to Shrewsbury time to walk across town. \n\n\n\nFor more information on what happens in Committee and Branch meetings\, please see the Branch Management section in the Our Branch page.
URL:https://saws.camra.org.uk/whats-on/committee-branch-meeting/
LOCATION:Shropshire
CATEGORIES:Branch Events,Branch Meetings,Committee Meetings
ORGANIZER;CN="Contact the Meeting Organiser%3A":MAILTO:chair@saws.camra.org.uk
END:VEVENT
BEGIN:VEVENT
DTSTART;TZID=Europe/London:20251218T100000
DTEND;TZID=Europe/London:20251218T180000
DTSTAMP:20260425T164727
CREATED:20241130T224617Z
LAST-MODIFIED:20251216T085546Z
UID:8792-1766052000-1766080800@saws.camra.org.uk
SUMMARY:Public Transport Group Trip to Ludlow
DESCRIPTION:Shrewsbury & West Shropshire CAMRA social and beer scoring trip by public transport from Shrewsbury to Ludlow. Members and non-members welcome! \n\n\n\nThe final PTG trip of the year will be to Ludlow on Thursday 18th December. Ludlow is one of our most popular PTG destinations and we will have 16 pubs serving real ale to choose from in or near the town centre\, including two Good Beer Guide pubs. The Olde Bull Ring Tavern and the Compasses have also just re-opened\, but the George is still closed. \n\n\n\nTravel Information \n\n\n\nMost people travelling from Shrewsbury and beyond will be getting to Ludlow by train\, leaving a few minutes walk from Ludlow railway station to Ludlow Brewery\, which will be our first beer stop. The other option is by bus\, which takes 1 hr 15 mins and drops you off by the railway station. \n\n\n\nShrewsbury to Ludlow by Train:   From platform 4\, get the 10:47 which arrives in Ludlow at 11:17 \n\n\n\nShrewsbury to Ludlow by Bus:    From Stand N at Shrewsbury Bus Station\, take the Minsterley Motors 435 bus at 9:55 arriving in Ludlow adjacent to the railway station at 11:10 \n\n\n\nLudlow to Shrewsbury by Train:   Choice of either the 16:20 arriving in Shrewsbury at 16:54\, or the 16:52 arriving in Shrewsbury at 17:24\, or the 17:19 arriving in Shrewsbury at 17:46\, or the 17:43 arriving in Shrewsbury at 18:18 \n\n\n\nLudlow to Shrewsbury by Bus:    Minsterley Motors 435 bus from outside the Compasses pub on Corve Street either at 15:55 arriving in Shrewsbury bus station at 17:11\, or at 16:55 arriving in Shrewsbury at 18:11 \n\n\n\nPubs \n\n\n\nA general order of pubs is shown below. We will meet at Ludlow Brewery around 11:15am and stay there until around midday. As we have a large number of pubs on the list\, after the Brewery we usually split up into smaller groups to pick a subset of the pubs to visit. We will try and meet up again around 3pm in the Blue Boar\, so we can have a drink together as a group before the early finishers start to head for home. \n\n\n\nLudlow Brewery          (opens at 11:00) \n\n\n\nUnicorn          (opens at 12:00) \n\n\n\nCompasses          (opens at 11:00) \n\n\n\nBull Hotel          (opens at 10:00) \n\n\n\nFeathers          (opens at 11:00) \n\n\n\nQueens          (opens at 12:00) \n\n\n\nOld Street Tavern          (opens at 12:00) \n\n\n\nOlde Bull Ring Tavern          (opens at 12:00) \n\n\n\nCharlton Arms          (opens at 11:00) \n\n\n\nWheatsheaf            (opens at 12:00) \n\n\n\nBlue Boar          (opens at 12:00) \n\n\n\nRose and Crown          (opens at 11:00) \n\n\n\nChurch          (opens at 11:00) \n\n\n\nAnd for those staying a bit later: \n\n\n\nBlood Bay          (opens at 17:00) \n\n\n\nDog Hangs Well          (opens at 17:00) \n\n\n\nBridge          (opens at 16:00) \n\n\n\nIf this is your first PTG trip and you don’t know anyone else who is going\, please email the PTG Organiser and they’ll arrange for someone to look out for you at the station. \n\n\n\nFor more information about our Public Transport Group (PTG) trips\, please see the About Our Events page. If you would like to receive regular emails with details and updates on upcoming PTG trips\, please send your email address to the PTG Organiser at ptg@saws.camra.org.uk\, and you will be added to the Public Transport Group mailing list.
URL:https://saws.camra.org.uk/whats-on/public-transport-group-trip-to-ludlow-7/
LOCATION:Trip starts at Shrewsbury Railway Station\, Castle Foregate\, Shrewsbury\, Shropshire\, SY1 2DQ\, United Kingdom
CATEGORIES:Branch Events,PTG Trips
ORGANIZER;CN="Contact the PTG Organiser%3A":MAILTO:ptg@saws.camra.org.uk
END:VEVENT
BEGIN:VEVENT
DTSTART;TZID=Europe/London:20251224T130000
DTEND;TZID=Europe/London:20251224T180000
DTSTAMP:20260425T164727
CREATED:20251204T232636Z
LAST-MODIFIED:20251222T211032Z
UID:10991-1766581200-1766599200@saws.camra.org.uk
SUMMARY:Christmas Eve Shrewsbury Walkabout
DESCRIPTION:Our annual Christmas Eve Shrewsbury walkabout\, which gives everyone a chance to meet up for a few drinks before the Christmas break. Also handy for combining a bit of last minute Christmas shopping with some pubs! \n\n\n\nThis year\, we will be starting the walkabout at our Shrewsbury Pub of the Year\, the Prince of Wales on Bynner Street at 1pm. After that we will go to the Cross Foxes before heading into town. We are then likely to visit the Nag’s Head\, Cromwell’s\, Three Fishes\, Admiral Benbow and the newly-opened Coach and Horses.  \n\n\n\nIf you are short on time\, feel free to join us just for one or two pubs. If you want to know where we are at a particular time\, there will be updates on our Facebook page. \n\n\n\nHope to see you there. Both members and non-members are very welcome!
URL:https://saws.camra.org.uk/whats-on/christmas-eve-shrewsbury-walkabout-2/
LOCATION:Prince of Wales\, 30 Bynner St\, Shrewsbury\, SY3 7NZ\, United Kingdom
CATEGORIES:Branch Events,Walkabouts
END:VEVENT
END:VCALENDAR