BEGIN:VCALENDAR
VERSION:2.0
PRODID:-//Shrewsbury and West Shropshire CAMRA - ECPv6.15.20//NONSGML v1.0//EN
CALSCALE:GREGORIAN
METHOD:PUBLISH
X-WR-CALNAME:Shrewsbury and West Shropshire CAMRA
X-ORIGINAL-URL:https://saws.camra.org.uk
X-WR-CALDESC:Events for Shrewsbury and West Shropshire CAMRA
REFRESH-INTERVAL;VALUE=DURATION:PT1H
X-Robots-Tag:noindex
X-PUBLISHED-TTL:PT1H
BEGIN:VTIMEZONE
TZID:Europe/London
BEGIN:DAYLIGHT
TZOFFSETFROM:+0000
TZOFFSETTO:+0100
TZNAME:BST
DTSTART:20250330T010000
END:DAYLIGHT
BEGIN:STANDARD
TZOFFSETFROM:+0100
TZOFFSETTO:+0000
TZNAME:GMT
DTSTART:20251026T010000
END:STANDARD
BEGIN:DAYLIGHT
TZOFFSETFROM:+0000
TZOFFSETTO:+0100
TZNAME:BST
DTSTART:20260329T010000
END:DAYLIGHT
BEGIN:STANDARD
TZOFFSETFROM:+0100
TZOFFSETTO:+0000
TZNAME:GMT
DTSTART:20261025T010000
END:STANDARD
BEGIN:DAYLIGHT
TZOFFSETFROM:+0000
TZOFFSETTO:+0100
TZNAME:BST
DTSTART:20270328T010000
END:DAYLIGHT
BEGIN:STANDARD
TZOFFSETFROM:+0100
TZOFFSETTO:+0000
TZNAME:GMT
DTSTART:20271031T010000
END:STANDARD
END:VTIMEZONE
BEGIN:VEVENT
DTSTART;TZID=Europe/London:20260106T190000
DTEND;TZID=Europe/London:20260106T210000
DTSTAMP:20260425T164736
CREATED:20251029T112238Z
LAST-MODIFIED:20260106T171913Z
UID:10823-1767726000-1767733200@saws.camra.org.uk
SUMMARY:Festival Working Party
DESCRIPTION:Shrewsbury & West Shropshire CAMRA festival working party\, organising the next Shrewsbury Beer Festival. The meeting will be held at the Prince of Wales in Shrewsbury. Members and non-members welcome. \n\n\n\nThis meeting has been cancelled due to weather conditions\, and will now be held on Tuesday 20th January at the Prince of Wales. \n\n\n\nNote that the start time for the festival meetings is 7:15pm\, to give people who are getting the train to Shrewsbury time to walk across town. \n\n\n\nFor more information on these meetings\, see the Festival Working Party section on the About Our Events page.
URL:https://saws.camra.org.uk/whats-on/festival-working-party-34/
LOCATION:Prince of Wales\, 30 Bynner St\, Shrewsbury\, SY3 7NZ\, United Kingdom
CATEGORIES:Branch Events,Festival Meetings,Meetings
ORGANIZER;CN="Contact the Meeting Organiser%3A":MAILTO:chair@saws.camra.org.uk
END:VEVENT
BEGIN:VEVENT
DTSTART;TZID=Europe/London:20260113T190000
DTEND;TZID=Europe/London:20260113T210000
DTSTAMP:20260425T164736
CREATED:20251029T111407Z
LAST-MODIFIED:20251204T233942Z
UID:10821-1768330800-1768338000@saws.camra.org.uk
SUMMARY:Committee Meeting
DESCRIPTION:Shrewsbury & West Shropshire CAMRA committee meeting at the Prince of Wales. All members welcome. \n\n\n\nNote that the start time for the committee meetings is 7:15pm\, to give people who are getting the train to Shrewsbury time to walk across town. \n\n\n\nFor more information on what happens in Committee meetings\, please see the Branch Management section in the Our Branch page.
URL:https://saws.camra.org.uk/whats-on/committee-meeting-36/
LOCATION:Prince of Wales\, 30 Bynner St\, Shrewsbury\, SY3 7NZ\, United Kingdom
CATEGORIES:Branch Events,Committee Meetings,Meetings
ORGANIZER;CN="Contact the Meeting Organiser%3A":MAILTO:chair@saws.camra.org.uk
END:VEVENT
BEGIN:VEVENT
DTSTART;TZID=Europe/London:20260116T190000
DTEND;TZID=Europe/London:20260116T220000
DTSTAMP:20260425T164736
CREATED:20251013T212700Z
LAST-MODIFIED:20251219T093633Z
UID:10665-1768590000-1768600800@saws.camra.org.uk
SUMMARY:Branch Annual Dinner
DESCRIPTION:We will once again be having the Branch Annual Dinner on Friday 16th January at the Prince Rupert Hotel in Shrewsbury. 7pm for 7:30 sit down. All (including plus ones if they would like to join us) welcome.  \n\n\n\nThe cost is £42 pp for 3 courses and £36.50 pp for 2 courses. Real Ale will once again be provided by us\, proceeds of sales to branch funds. If you would like to attend\, please notify Helen Arkell (either in person or via pubs@saws.camra.org.uk) along with your menu choices. The deadline for booking a place is the 3rd January. Payment in advance preferred.
URL:https://saws.camra.org.uk/whats-on/branch-annual-dinner-3/
LOCATION:Prince Rupert Hotel\, Butcher Row\, Shrewsbury\, Shropshire\, SY1 1UQ\, United Kingdom
CATEGORIES:Annual Dinner,Branch Events
ORGANIZER;CN="Contact the Annual Dinner Organiser":MAILTO:pubs@saws.camra.org.uk
END:VEVENT
BEGIN:VEVENT
DTSTART;TZID=Europe/London:20260120T190000
DTEND;TZID=Europe/London:20260120T210000
DTSTAMP:20260425T164736
CREATED:20260106T171712Z
LAST-MODIFIED:20260106T171739Z
UID:11126-1768935600-1768942800@saws.camra.org.uk
SUMMARY:Festival Working Party
DESCRIPTION:Shrewsbury & West Shropshire CAMRA festival working party\, organising the next Shrewsbury Beer Festival. The meeting will be held at the Prince of Wales in Shrewsbury. Members and non-members welcome. \n\n\n\nNote that this meeting was meant to be on Tuesday 6th January but was moved due to weather conditions. Also note that the start time for the festival meetings is 7:15pm\, to give people who are getting the train to Shrewsbury time to walk across town. \n\n\n\nFor more information on these meetings\, see the Festival Working Party section on the About Our Events page.
URL:https://saws.camra.org.uk/whats-on/festival-working-party-35/
LOCATION:Prince of Wales\, 30 Bynner St\, Shrewsbury\, SY3 7NZ\, United Kingdom
CATEGORIES:Festival Meetings
ORGANIZER;CN="Contact the Meeting Organiser%3A":MAILTO:chair@saws.camra.org.uk
END:VEVENT
BEGIN:VEVENT
DTSTART;TZID=Europe/London:20260122T093000
DTEND;TZID=Europe/London:20260122T180000
DTSTAMP:20260425T164736
CREATED:20251115T205934Z
LAST-MODIFIED:20260115T230758Z
UID:10851-1769074200-1769104800@saws.camra.org.uk
SUMMARY:Public Transport Group Trip to Stourbridge
DESCRIPTION:Shrewsbury & West Shropshire CAMRA social trip by public transport from Shrewsbury to Stourbridge. This is the first of our out-of-area PTG trips for the year. Members and non-members welcome! \n\n\n\nWe have seven pubs on the list to visit\, with more options available if required. The seven pubs include five current Good Beer Guide pubs\, and pubs with beers from Bathams\, Black Country Ales\, Fownd\, Craddock’s\, etc. So it should be a good day. \n\n\n\nTRAVEL INFORMATION \n\n\n\nThe two main options for getting to Stourbridge are by train to Stourbridge Town station\, or by train to Wolverhampton and then bus to Stourbridge.  \n\n\n\nThe train takes 1hr 34m with two changes\, and includes a trip on the Stourbridge Town shuttle.  \n\n\n\nThe train and bus option will take around 2 hours to get to Stourbridge but is probably a bit cheaper\, and also gives people the option of stopping off at further pubs on the way back to Wolverhampton. \n\n\n\nShrewsbury to Stourbridge Town by Train: \n\n\n\n\n09:59 from Shrewsbury\, arriving at Stourbridge Town (after 2 changes) at 11:33   (change at Smethwick Galton Bridge at 10:52\, 19 min wait for the 11:11 to Stourbridge Junction arriving at 11:27\, 3 min wait for 11:30 Shuttle (every 10 mins) to Stourbridge Town arriving at 11:33)\n\n\n\n\nShrewsbury to Stourbridge by Train & Bus: \n\n\n\n\n09:30 train from Shrewsbury\, arriving in Wolverhampton at 10:10\, then walk to bus stop to get the No.16 Bus at 10:35\, arriving in Stourbridge at 11:40\n\n\n\n\nThe last pub of the day is opposite the Stourbridge Junction station approach\, so those getting the train back can go from there. For those going back by bus\, they can either take the shuttle train\, bus or walk back to Stourbridge bus station\, before taking the bus back to Wolverhampton. \n\n\n\nStourbridge Junction to Shrewsbury by Train:   From Stourbridge Junction\, choice of: \n\n\n\n\n16:30 and change at Smethwick Galton Bridge to get the 16:59 arriving in Shrewsbury at 17:53\n\n\n\n16:50 and change at Smethwick Galton Bridge to get the 17:20 to Sandwell and Dudley\, and change again to get the 17:30 arriving in Shrewsbury at 18:21\n\n\n\n17:30 and change at Smethwick Galton Bridge to get the 17:59 arriving in Shrewsbury at 18:53\n\n\n\n\nStourbridge to Shrewsbury by Bus & Train:   No.16 Bus from Stourbridge bus station\, choice of:  \n\n\n\n\n15:45 bus arriving Wolverhampton at 16:56\, then Train at 17:12 arriving Shrewsbury at 17:53\n\n\n\n16:10 bus arriving Wolverhampton at 17:21\, then Train at 17:41 arriving Shrewsbury at 18:21\n\n\n\n16:25 bus arriving Wolverhampton at 17:35\, then Train at 17:57 arriving Shrewsbury at 18:47\n\n\n\n\nNOTE: Please double check your train and/or bus times just in case there are any mistakes with the above times. \n\n\n\nPUBS \n\n\n\nFor anyone getting to Stourbridge earlier than 11:30 when the main group arrives\, there is also a Spoons in town (Chequers – open at 8:00) and another GBG pub (Hop Vault – open at 11:00).  \n\n\n\nThe Seven Stars Black Country Ales pub in Oldswinford will be our final stop. It has up to 22 beers on and is opposite Stourbridge Junction station\, so people can spend as long as they want there before heading back.  \n\n\n\nA suggested order of pubs is shown below: \n\n\n\nRed House   (opens at 11:00)   – up to 8 ales eg Enville\, Fixed Wheel \n\n\n\nWeavers Real Ale House   (opens at 12:00)   – GBG – Fownd ales \n\n\n\nDuke William   (opens at 12:00)   – Craddock’s beers \n\n\n\nRoyal Exchange   (opens at 12:00)  – GBG – Bathams \n\n\n\nQueens Head   (opens at 12:00)  – GBG – Black Country Ales  \n\n\n\nWaggon and Horses   (opens at 12:00)   – GBG  \n\n\n\nWe can then walk (15 mins) to the final pub\, or walk to the station (5 mins) and take the train (every 10 mins) to Stourbridge Junction\, or walk to Church Street (5 mins) and get the No.7 or No.142 bus. \n\n\n\nSeven Stars   (opens at 12:00)   – GBG – Black Country Ales – up to 22 ales  \n\n\n\n   \n\n\n\nIf this is your first PTG trip and you don’t know anyone else who is going\, please email the PTG organiser so arrangements can be made to look out for you either at Shrewsbury station\, or at the far end. \n\n\n\nFor more information about our Public Transport Group (PTG) trips\, please see the About Our Events page. If you would like to receive regular emails with details and updates on upcoming PTG trips\, please send your email address to the PTG Organiser at ptg@saws.camra.org.uk\, and you will be added to the Public Transport Group mailing list.
URL:https://saws.camra.org.uk/whats-on/public-transport-group-trip-to-stourbridge/
LOCATION:Trip starts at Shrewsbury Railway Station\, Castle Foregate\, Shrewsbury\, Shropshire\, SY1 2DQ\, United Kingdom
CATEGORIES:Branch Events,PTG Trips
ORGANIZER;CN="Contact the PTG Organiser%3A":MAILTO:ptg@saws.camra.org.uk
END:VEVENT
BEGIN:VEVENT
DTSTART;TZID=Europe/London:20260127T190000
DTEND;TZID=Europe/London:20260127T220000
DTSTAMP:20260425T164736
CREATED:20260104T143442Z
LAST-MODIFIED:20260104T143510Z
UID:11124-1769540400-1769551200@saws.camra.org.uk
SUMMARY:Branch Meeting
DESCRIPTION:Shrewsbury & West Shropshire CAMRA branch meeting at Cromwell’s Tap House in Shrewsbury. Members and non-members are welcome. \n\n\n\nNote that the start time for branch meetings will be 7:15pm\, to give people who are getting the train to Shrewsbury time to walk across town. \n\n\n\nFor more information on what happens in Branch meetings\, please see the Branch Management section in the Our Branch page.
URL:https://saws.camra.org.uk/whats-on/branch-meeting-33/
LOCATION:Cromwell’s Tap House\, 11 Dogpole\, Shrewsbury\, Shropshire\, SY1 1EN\, United Kingdom
CATEGORIES:Branch Meetings
ORGANIZER;CN="Contact the Meeting Organiser%3A":MAILTO:chair@saws.camra.org.uk
END:VEVENT
BEGIN:VEVENT
DTSTART;TZID=Europe/London:20260130T190000
DTEND;TZID=Europe/London:20260130T233000
DTSTAMP:20260425T164736
CREATED:20251116T205512Z
LAST-MODIFIED:20251204T234617Z
UID:10891-1769799600-1769815800@saws.camra.org.uk
SUMMARY:Beer Bus Trip to Oswestry
DESCRIPTION:Shrewsbury & West Shropshire CAMRA social and beer scoring trip by minibus from Shrewsbury to Oswestry. Departing at 7pm from the bus stop layby on Smithfield Road\, just the other side of the Frankwell footbridge from the Salopian Bar. Members and non-members welcome. \n\n\n\nPlaces must be pre-booked with Dave Ricketts – he can be contacted using the email address below\, or by phone after 4:30pm (SMS text preferred). \n\n\n\nFor more information about our Beer Bus trips\, please see the About Our Events page.
URL:https://saws.camra.org.uk/whats-on/beer-bus-trip-to-oswestry-5/
LOCATION:Trip starts at Salopian Bar\, 29 Smithfield Road\, Shrewsbury\, Shropshire\, SY1 1PB\, United Kingdom
CATEGORIES:Beer Bus Trips,Branch Events
ORGANIZER;CN="Contact the Beer Bus Organiser%3A":MAILTO:social@saws.camra.org.uk
END:VEVENT
END:VCALENDAR