BEGIN:VCALENDAR
VERSION:2.0
PRODID:-//Shrewsbury and West Shropshire CAMRA - ECPv6.15.20//NONSGML v1.0//EN
CALSCALE:GREGORIAN
METHOD:PUBLISH
X-WR-CALNAME:Shrewsbury and West Shropshire CAMRA
X-ORIGINAL-URL:https://saws.camra.org.uk
X-WR-CALDESC:Events for Shrewsbury and West Shropshire CAMRA
REFRESH-INTERVAL;VALUE=DURATION:PT1H
X-Robots-Tag:noindex
X-PUBLISHED-TTL:PT1H
BEGIN:VTIMEZONE
TZID:Europe/London
BEGIN:DAYLIGHT
TZOFFSETFROM:+0000
TZOFFSETTO:+0100
TZNAME:BST
DTSTART:20240331T010000
END:DAYLIGHT
BEGIN:STANDARD
TZOFFSETFROM:+0100
TZOFFSETTO:+0000
TZNAME:GMT
DTSTART:20241027T010000
END:STANDARD
BEGIN:DAYLIGHT
TZOFFSETFROM:+0000
TZOFFSETTO:+0100
TZNAME:BST
DTSTART:20250330T010000
END:DAYLIGHT
BEGIN:STANDARD
TZOFFSETFROM:+0100
TZOFFSETTO:+0000
TZNAME:GMT
DTSTART:20251026T010000
END:STANDARD
BEGIN:DAYLIGHT
TZOFFSETFROM:+0000
TZOFFSETTO:+0100
TZNAME:BST
DTSTART:20260329T010000
END:DAYLIGHT
BEGIN:STANDARD
TZOFFSETFROM:+0100
TZOFFSETTO:+0000
TZNAME:GMT
DTSTART:20261025T010000
END:STANDARD
END:VTIMEZONE
BEGIN:VEVENT
DTSTART;TZID=Europe/London:20250906T113000
DTEND;TZID=Europe/London:20250906T180000
DTSTAMP:20260421T182035
CREATED:20241130T231746Z
LAST-MODIFIED:20250903T132151Z
UID:8812-1757158200-1757181600@saws.camra.org.uk
SUMMARY:Beer Bus Trip to the Inner Loop
DESCRIPTION:Social and beer scoring trip by minibus from Shrewsbury to the “Inner Loop”\, visiting rural pubs on the east side of Shrewsbury. Please note that this is a Saturday trip. Departing from the bus stop layby on Smithfield Road\, just the other side of the Frankwell footbridge from the Salopian Bar\, at 11:30am. Members and non-members welcome. \n\n\n\nWe are hoping to visit the Mytton and Mermaid at Atcham\, Horsehoes at Uckington\, Hare and Hounds at Withington\, the Haughmond at Upton Magna\, Corbet Arms at Uffington\, Stanton Arms at Stanton-upon-Hine-Heath\, and possibly the Tiddly at Ellerdine Heath. \n\n\n\nPlaces must be pre-booked with Dave Ricketts – he can be contacted using the email address below\, or by phone after 4:30pm (SMS text preferred). \n\n\n\nFor more information about our Beer Bus trips\, please see the About Our Events page.
URL:https://saws.camra.org.uk/whats-on/beer-bus-trip-to-the-inner-loop/
LOCATION:Salopian Brewery\, Old Station Yard\, Station Road\, Shrewsbury\, Shropshire\, SY4 3DD\, United Kingdom
CATEGORIES:Beer Bus Trips,Branch Events
ORGANIZER;CN="Contact the Beer Bus Organiser%3A":MAILTO:social@saws.camra.org.uk
END:VEVENT
END:VCALENDAR