BEGIN:VCALENDAR
VERSION:2.0
PRODID:-//Shrewsbury and West Shropshire CAMRA - ECPv6.15.20//NONSGML v1.0//EN
CALSCALE:GREGORIAN
METHOD:PUBLISH
X-WR-CALNAME:Shrewsbury and West Shropshire CAMRA
X-ORIGINAL-URL:https://saws.camra.org.uk
X-WR-CALDESC:Events for Shrewsbury and West Shropshire CAMRA
REFRESH-INTERVAL;VALUE=DURATION:PT1H
X-Robots-Tag:noindex
X-PUBLISHED-TTL:PT1H
BEGIN:VTIMEZONE
TZID:Europe/London
BEGIN:DAYLIGHT
TZOFFSETFROM:+0000
TZOFFSETTO:+0100
TZNAME:BST
DTSTART:20210328T010000
END:DAYLIGHT
BEGIN:STANDARD
TZOFFSETFROM:+0100
TZOFFSETTO:+0000
TZNAME:GMT
DTSTART:20211031T010000
END:STANDARD
BEGIN:DAYLIGHT
TZOFFSETFROM:+0000
TZOFFSETTO:+0100
TZNAME:BST
DTSTART:20220327T010000
END:DAYLIGHT
BEGIN:STANDARD
TZOFFSETFROM:+0100
TZOFFSETTO:+0000
TZNAME:GMT
DTSTART:20221030T010000
END:STANDARD
BEGIN:DAYLIGHT
TZOFFSETFROM:+0000
TZOFFSETTO:+0100
TZNAME:BST
DTSTART:20230326T010000
END:DAYLIGHT
BEGIN:STANDARD
TZOFFSETFROM:+0100
TZOFFSETTO:+0000
TZNAME:GMT
DTSTART:20231029T010000
END:STANDARD
BEGIN:DAYLIGHT
TZOFFSETFROM:+0000
TZOFFSETTO:+0100
TZNAME:BST
DTSTART:20240331T010000
END:DAYLIGHT
BEGIN:STANDARD
TZOFFSETFROM:+0100
TZOFFSETTO:+0000
TZNAME:GMT
DTSTART:20241027T010000
END:STANDARD
BEGIN:DAYLIGHT
TZOFFSETFROM:+0000
TZOFFSETTO:+0100
TZNAME:BST
DTSTART:20250330T010000
END:DAYLIGHT
BEGIN:STANDARD
TZOFFSETFROM:+0100
TZOFFSETTO:+0000
TZNAME:GMT
DTSTART:20251026T010000
END:STANDARD
END:VTIMEZONE
BEGIN:VEVENT
DTSTART;TZID=Europe/London:20240426T190000
DTEND;TZID=Europe/London:20240426T233000
DTSTAMP:20260421T113055
CREATED:20231211T105748Z
LAST-MODIFIED:20240301T101319Z
UID:5660-1714158000-1714174200@saws.camra.org.uk
SUMMARY:Beer Bus Trip to Bishops Castle
DESCRIPTION:Social and beer scoring trip by minibus from Shrewsbury to Bishops Castle. Departing from Salopian Bar at 7pm. Members and non-members welcome. \n\n\n\nPlaces must be pre-booked with Dave Ricketts – he can be contacted using the email address below\, or by phone after 4:30pm (SMS text preferred). \n\n\n\nFor more information about our Beer Bus trips\, please see the About Our Events page.
URL:https://saws.camra.org.uk/whats-on/beer-bus-trip-to-bishops-castle-area/
LOCATION:Trip starts at Salopian Bar\, 29 Smithfield Road\, Shrewsbury\, Shropshire\, SY1 1PB\, United Kingdom
CATEGORIES:Beer Bus Trips,Branch Events
ORGANIZER;CN="Contact the Beer Bus Organiser%3A":MAILTO:social@saws.camra.org.uk
END:VEVENT
BEGIN:VEVENT
DTSTART;TZID=Europe/London:20240315T190000
DTEND;TZID=Europe/London:20240315T233000
DTSTAMP:20260421T113055
CREATED:20231211T105255Z
LAST-MODIFIED:20240124T114125Z
UID:5658-1710529200-1710545400@saws.camra.org.uk
SUMMARY:Beer Bus Trip to Royal Hill\, Kinnerley and Beyond
DESCRIPTION:Social and beer scoring trip by minibus from Shrewsbury to Royal Hill\, Kinnerley and beyond. Departing from Salopian Bar at 7pm. Members and non-members welcome. \n\n\n\nPlaces must be pre-booked with Dave Ricketts – he can be contacted using the email address below\, or by phone after 4:30pm (SMS text preferred). \n\n\n\nFor more information about our Beer Bus trips\, please see the About Our Events page.
URL:https://saws.camra.org.uk/whats-on/beer-bus-trip-to-royal-hill-kinnerley-and-beyond/
LOCATION:Trip starts at Salopian Bar\, 29 Smithfield Road\, Shrewsbury\, Shropshire\, SY1 1PB\, United Kingdom
CATEGORIES:Beer Bus Trips,Branch Events
ORGANIZER;CN="Contact the Beer Bus Organiser%3A":MAILTO:social@saws.camra.org.uk
END:VEVENT
BEGIN:VEVENT
DTSTART;TZID=Europe/London:20240223T190000
DTEND;TZID=Europe/London:20240223T233000
DTSTAMP:20260421T113055
CREATED:20231130T233503Z
LAST-MODIFIED:20240218T151855Z
UID:5522-1708714800-1708731000@saws.camra.org.uk
SUMMARY:Beer Bus Trip to Whitchurch
DESCRIPTION:Social and beer scoring trip by minibus from Shrewsbury to Whitchurch. Departing from Salopian Bar at 7pm. Note that Beer Bus participants have been invited to the soft opening of the Crafty Dragon on Friday night\, the new micro-pub on Mill Street run by Magic Dragon brewery. This is an invitation-only event before officially opening to the public on Saturday 24th. Both members and non-members are welcome on the Beer Bus. \n\n\n\nPlaces must be pre-booked with Dave Ricketts – he can be contacted using the email address below\, or by phone after 4:30pm (SMS text preferred). \n\n\n\nFor more information about our Beer Bus trips\, please see the About Our Events page.
URL:https://saws.camra.org.uk/whats-on/beer-bus-trip-to-whitchurch/
LOCATION:Trip starts at Salopian Bar\, 29 Smithfield Road\, Shrewsbury\, Shropshire\, SY1 1PB\, United Kingdom
CATEGORIES:Beer Bus Trips,Branch Events
ORGANIZER;CN="Contact the Beer Bus Organiser%3A":MAILTO:social@saws.camra.org.uk
END:VEVENT
BEGIN:VEVENT
DTSTART;TZID=Europe/London:20240126T190000
DTEND;TZID=Europe/London:20240126T233000
DTSTAMP:20260421T113055
CREATED:20231130T233207Z
LAST-MODIFIED:20240124T114223Z
UID:5520-1706295600-1706311800@saws.camra.org.uk
SUMMARY:Beer Bus Trip to Ludlow
DESCRIPTION:Social and beer scoring trip by minibus from Shrewsbury to Ludlow. Departing from Salopian Bar at 7pm. Members and non-members welcome. \n\n\n\nPlaces must be pre-booked with Dave Ricketts – he can be contacted using the email address below\, or by phone after 4:30pm (SMS text preferred). \n\n\n\nFor more information about our Beer Bus trips\, please see the About Our Events page.
URL:https://saws.camra.org.uk/whats-on/beer-bus-trip-to-ludlow-3/
LOCATION:Trip starts at Salopian Bar\, 29 Smithfield Road\, Shrewsbury\, Shropshire\, SY1 1PB\, United Kingdom
CATEGORIES:Beer Bus Trips,Branch Events
ORGANIZER;CN="Contact the Beer Bus Organiser%3A":MAILTO:social@saws.camra.org.uk
END:VEVENT
BEGIN:VEVENT
DTSTART;TZID=Europe/London:20231208T190000
DTEND;TZID=Europe/London:20231208T233000
DTSTAMP:20260421T113055
CREATED:20230228T142502Z
LAST-MODIFIED:20231130T234500Z
UID:828-1702062000-1702078200@saws.camra.org.uk
SUMMARY:Beer Bus Trip to Wem and Ellesmere
DESCRIPTION:Social and beer scoring trip by minibus from Shrewsbury to Wem and Ellesmere. Departing from Salopian Bar at 7pm. Places must be pre-booked with Dave Ricketts – he can be contacted using the email address below. \n\n\n\nFor more information about our Beer Bus trips\, please see the About Our Events page.
URL:https://saws.camra.org.uk/whats-on/beer-bus-trip-to-tbc/
LOCATION:Trip starts at Salopian Bar\, 29 Smithfield Road\, Shrewsbury\, Shropshire\, SY1 1PB\, United Kingdom
CATEGORIES:Beer Bus Trips,Branch Events
ORGANIZER;CN="Contact the Beer Bus Organiser%3A":MAILTO:social@saws.camra.org.uk
END:VEVENT
BEGIN:VEVENT
DTSTART;TZID=Europe/London:20231124T190000
DTEND;TZID=Europe/London:20231124T233000
DTSTAMP:20260421T113055
CREATED:20230228T142313Z
LAST-MODIFIED:20231002T152827Z
UID:826-1700852400-1700868600@saws.camra.org.uk
SUMMARY:Beer Bus Trip to Oswestry
DESCRIPTION:Social and beer scoring trip by minibus from Shrewsbury to Oswestry. Departing from Salopian Bar at 7pm. Places must be pre-booked with Dave Ricketts – he can be contacted using the email address below.
URL:https://saws.camra.org.uk/whats-on/beer-bus-trip-to-oswestry/
LOCATION:Trip starts at Salopian Bar\, 29 Smithfield Road\, Shrewsbury\, Shropshire\, SY1 1PB\, United Kingdom
CATEGORIES:Beer Bus Trips,Branch Events
ORGANIZER;CN="Contact the Beer Bus Organiser%3A":MAILTO:social@saws.camra.org.uk
END:VEVENT
BEGIN:VEVENT
DTSTART;TZID=Europe/London:20231027T190000
DTEND;TZID=Europe/London:20231027T233000
DTSTAMP:20260421T113055
CREATED:20230228T141933Z
LAST-MODIFIED:20231002T152735Z
UID:822-1698433200-1698449400@saws.camra.org.uk
SUMMARY:Beer Bus Trip to Ludlow
DESCRIPTION:Social and beer scoring trip by minibus from Shrewsbury to Ludlow. Departing from Salopian Bar at 7pm. Places must be pre-booked with Dave Ricketts – he can be contacted using the email address below.
URL:https://saws.camra.org.uk/whats-on/beer-bus-trip-to-ludlow-2/
LOCATION:Trip starts at Salopian Bar\, 29 Smithfield Road\, Shrewsbury\, Shropshire\, SY1 1PB\, United Kingdom
CATEGORIES:Beer Bus Trips,Branch Events
ORGANIZER;CN="Contact the Beer Bus Organiser%3A":MAILTO:social@saws.camra.org.uk
END:VEVENT
BEGIN:VEVENT
DTSTART;TZID=Europe/London:20230915T190000
DTEND;TZID=Europe/London:20230915T233000
DTSTAMP:20260421T113055
CREATED:20230228T141312Z
LAST-MODIFIED:20230912T211359Z
UID:816-1694804400-1694820600@saws.camra.org.uk
SUMMARY:Beer Bus Trip to Outlying Oswestry Pubs
DESCRIPTION:Beer scoring trip by minibus from Shrewsbury to Outlying Oswestry pubs. Departing from Salopian Bar at 7pm. Places must be pre-booked with Dave Ricketts.
URL:https://saws.camra.org.uk/whats-on/beer-bus-trip-to-outlying-oswestry-pubs/
LOCATION:Trip starts at Salopian Bar\, 29 Smithfield Road\, Shrewsbury\, Shropshire\, SY1 1PB\, United Kingdom
CATEGORIES:Beer Bus Trips,Branch Events
ORGANIZER;CN="Contact the Beer Bus Organiser%3A":MAILTO:social@saws.camra.org.uk
END:VEVENT
BEGIN:VEVENT
DTSTART;TZID=Europe/London:20230902T113000
DTEND;TZID=Europe/London:20230902T180000
DTSTAMP:20260421T113055
CREATED:20230228T141035Z
LAST-MODIFIED:20230608T121629Z
UID:814-1693654200-1693677600@saws.camra.org.uk
SUMMARY:Beer Bus Trip to Inner Loop – Uckington\, Uffington\, etc
DESCRIPTION:Beer scoring trip by minibus from Shrewsbury to the Inner Loop – Uckington\, Uffington\, etc. Departing from Salopian Bar late morning (exact departure time TBC). Places must be pre-booked with Dave Ricketts. Note this is a Saturday trip
URL:https://saws.camra.org.uk/whats-on/beer-bus-trip-to-inner-loop-uckington-uffington-etc/
LOCATION:Trip starts at Salopian Bar\, 29 Smithfield Road\, Shrewsbury\, Shropshire\, SY1 1PB\, United Kingdom
CATEGORIES:Beer Bus Trips,Branch Events
ORGANIZER;CN="Contact the Beer Bus Organiser%3A":MAILTO:social@saws.camra.org.uk
END:VEVENT
BEGIN:VEVENT
DTSTART;TZID=Europe/London:20230811T190000
DTEND;TZID=Europe/London:20230811T233000
DTSTAMP:20260421T113055
CREATED:20230228T140416Z
LAST-MODIFIED:20230301T102847Z
UID:810-1691780400-1691796600@saws.camra.org.uk
SUMMARY:Beer Bus Trip to Ash\, Grindley Brook & Whitchurch
DESCRIPTION:Beer scoring trip by minibus from Shrewsbury to Ash\, Grindley Brook & Whitchurch. Departing from Salopian Bar at 7pm. Places must be pre-booked with Dave Ricketts
URL:https://saws.camra.org.uk/whats-on/beer-bus-trip-to-ash-grindley-brook-whitchurch/
LOCATION:Trip starts at Salopian Bar\, 29 Smithfield Road\, Shrewsbury\, Shropshire\, SY1 1PB\, United Kingdom
CATEGORIES:Beer Bus Trips,Branch Events
ORGANIZER;CN="Contact the Beer Bus Organiser%3A":MAILTO:social@saws.camra.org.uk
END:VEVENT
BEGIN:VEVENT
DTSTART;TZID=Europe/London:20230714T190000
DTEND;TZID=Europe/London:20230714T233000
DTSTAMP:20260421T113055
CREATED:20230228T135943Z
LAST-MODIFIED:20230301T102920Z
UID:806-1689361200-1689377400@saws.camra.org.uk
SUMMARY:Beer Bus Trip to Shropshire Hills Area
DESCRIPTION:Beer scoring trip by minibus from Shrewsbury to the Shropshire Hills Area. Departing from Salopian Bar at 7pm. Places must be pre-booked with Dave Ricketts
URL:https://saws.camra.org.uk/whats-on/beer-bus-trip-to-shropshire-hills-area/
LOCATION:Trip starts at Salopian Bar\, 29 Smithfield Road\, Shrewsbury\, Shropshire\, SY1 1PB\, United Kingdom
CATEGORIES:Beer Bus Trips,Branch Events
ORGANIZER;CN="Contact the Beer Bus Organiser%3A":MAILTO:social@saws.camra.org.uk
END:VEVENT
BEGIN:VEVENT
DTSTART;TZID=Europe/London:20230623T190000
DTEND;TZID=Europe/London:20230623T233000
DTSTAMP:20260421T113055
CREATED:20230228T135743Z
LAST-MODIFIED:20230301T103016Z
UID:804-1687546800-1687563000@saws.camra.org.uk
SUMMARY:Beer Bus Trip to Cardington and the Strettons
DESCRIPTION:Beer scoring trip by minibus from Shrewsbury to Cardington and the Strettons. Departing from Salopian Bar at 7pm. Places must be pre-booked with Dave Ricketts
URL:https://saws.camra.org.uk/whats-on/beer-bus-trip-to-cardington-and-the-strettons/
LOCATION:Trip starts at Salopian Bar\, 29 Smithfield Road\, Shrewsbury\, Shropshire\, SY1 1PB\, United Kingdom
CATEGORIES:Beer Bus Trips,Branch Events
ORGANIZER;CN="Contact the Beer Bus Organiser%3A":MAILTO:social@saws.camra.org.uk
END:VEVENT
BEGIN:VEVENT
DTSTART;TZID=Europe/London:20230610T113000
DTEND;TZID=Europe/London:20230610T180000
DTSTAMP:20260421T113055
CREATED:20230228T135243Z
LAST-MODIFIED:20230607T152300Z
UID:800-1686396600-1686420000@saws.camra.org.uk
SUMMARY:Beer Bus Trip to Clun Valley
DESCRIPTION:Beer scoring trip by minibus from Shrewsbury to the Clun Valley. Departing from Salopian Bar at 11:30am. Places must be pre-booked with Dave Ricketts. Note this is a Saturday trip.
URL:https://saws.camra.org.uk/whats-on/beer-bus-trip-to-clun-valley/
LOCATION:Trip starts at Salopian Bar\, 29 Smithfield Road\, Shrewsbury\, Shropshire\, SY1 1PB\, United Kingdom
CATEGORIES:Beer Bus Trips,Branch Events
ORGANIZER;CN="Contact the Beer Bus Organiser%3A":MAILTO:social@saws.camra.org.uk
END:VEVENT
BEGIN:VEVENT
DTSTART;TZID=Europe/London:20230526T190000
DTEND;TZID=Europe/London:20230526T233000
DTSTAMP:20260421T113055
CREATED:20230228T134938Z
LAST-MODIFIED:20230510T081712Z
UID:798-1685127600-1685143800@saws.camra.org.uk
SUMMARY:Beer Bus Trip to Wem and Ellesmere
DESCRIPTION:Beer scoring trip by minibus from Shrewsbury to Wem and Ellesmere. CANCELLED
URL:https://saws.camra.org.uk/whats-on/beer-bus-trip-to-wem-and-ellesmere/
LOCATION:Trip starts at Salopian Bar\, 29 Smithfield Road\, Shrewsbury\, Shropshire\, SY1 1PB\, United Kingdom
CATEGORIES:Beer Bus Trips,Branch Events
ORGANIZER;CN="Contact the Beer Bus Organiser%3A":MAILTO:social@saws.camra.org.uk
END:VEVENT
BEGIN:VEVENT
DTSTART;TZID=Europe/London:20230428T190000
DTEND;TZID=Europe/London:20230428T233000
DTSTAMP:20260421T113055
CREATED:20230228T134434Z
LAST-MODIFIED:20230301T102639Z
UID:794-1682708400-1682724600@saws.camra.org.uk
SUMMARY:Beer Bus Trip to Hengoed\, Trefonen\, Wern & Oswestry
DESCRIPTION:Beer scoring trip by minibus from Shrewsbury to Hengoed\, Trefonen\, Wern & Oswestry. Departing from Salopian Bar at 7pm. Places must be pre-booked with Dave Ricketts
URL:https://saws.camra.org.uk/whats-on/beer-bus-trip-to-hengoed-trefonen-wern-oswestry/
LOCATION:Trip starts at Salopian Bar\, 29 Smithfield Road\, Shrewsbury\, Shropshire\, SY1 1PB\, United Kingdom
CATEGORIES:Beer Bus Trips,Branch Events
ORGANIZER;CN="Contact the Beer Bus Organiser%3A":MAILTO:social@saws.camra.org.uk
END:VEVENT
BEGIN:VEVENT
DTSTART;TZID=Europe/London:20230324T190000
DTEND;TZID=Europe/London:20230324T233000
DTSTAMP:20260421T113055
CREATED:20230228T121205Z
LAST-MODIFIED:20230301T103309Z
UID:774-1679684400-1679700600@saws.camra.org.uk
SUMMARY:Beer Bus Trip to Bishops Castle
DESCRIPTION:Beer scoring trip by minibus from Shrewsbury to Bishops Castle. Departing from Salopian Bar at 7pm. Places must be pre-booked with Dave Ricketts
URL:https://saws.camra.org.uk/whats-on/beer-bus-trip-to-bishops-castle/
LOCATION:Trip starts at Salopian Bar\, 29 Smithfield Road\, Shrewsbury\, Shropshire\, SY1 1PB\, United Kingdom
CATEGORIES:Beer Bus Trips,Branch Events
ORGANIZER;CN="Contact the Beer Bus Organiser%3A":MAILTO:social@saws.camra.org.uk
END:VEVENT
BEGIN:VEVENT
DTSTART;TZID=Europe/London:20230224T110000
DTEND;TZID=Europe/London:20230224T113000
DTSTAMP:20260421T113055
CREATED:20230228T115818Z
LAST-MODIFIED:20230301T103355Z
UID:762-1677236400-1677238200@saws.camra.org.uk
SUMMARY:Beer Bus Trip to Ludlow
DESCRIPTION:Beer scoring trip by minibus from Shrewsbury to Ludlow. Departing from Salopian Bar at 7pm. Places must be pre-booked with Dave Ricketts
URL:https://saws.camra.org.uk/whats-on/beer-bus-trip-to-ludlow/
LOCATION:Trip starts at Salopian Bar\, 29 Smithfield Road\, Shrewsbury\, Shropshire\, SY1 1PB\, United Kingdom
CATEGORIES:Beer Bus Trips,Branch Events
ORGANIZER;CN="Contact the Beer Bus Organiser%3A":MAILTO:social@saws.camra.org.uk
END:VEVENT
BEGIN:VEVENT
DTSTART;TZID=Europe/London:20230127T190000
DTEND;TZID=Europe/London:20230127T233000
DTSTAMP:20260421T113055
CREATED:20230228T114523Z
LAST-MODIFIED:20230301T103456Z
UID:750-1674846000-1674862200@saws.camra.org.uk
SUMMARY:Beer Bus Trip to Whitchurch and Bhurtpore
DESCRIPTION:Beer scoring trip by minibus from Shrewsbury to Whitchurch town centre + Bhurtpore\, Departing from the Salopian at 7pm
URL:https://saws.camra.org.uk/whats-on/beer-bus-trip-to-whitchurch-and-bhurtpore/
LOCATION:Trip starts at Salopian Bar\, 29 Smithfield Road\, Shrewsbury\, Shropshire\, SY1 1PB\, United Kingdom
CATEGORIES:Beer Bus Trips,Branch Events
ORGANIZER;CN="Contact the Beer Bus Organiser%3A":MAILTO:social@saws.camra.org.uk
END:VEVENT
BEGIN:VEVENT
DTSTART;TZID=Europe/London:20221216T190000
DTEND;TZID=Europe/London:20221216T233000
DTSTAMP:20260421T113055
CREATED:20221207T135136Z
LAST-MODIFIED:20230301T103624Z
UID:351-1671217200-1671233400@saws.camra.org.uk
SUMMARY:Beer Bus to the Strettons
DESCRIPTION:Beer scoring trip by minibus from Shrewsbury to the Strettons\, Departing from the Salopian Bar\, Shrewsbury at 7pm
URL:https://saws.camra.org.uk/whats-on/beer-bus-to-the-strettons/
LOCATION:Trip starts at Salopian Bar\, 29 Smithfield Road\, Shrewsbury\, Shropshire\, SY1 1PB\, United Kingdom
CATEGORIES:Beer Bus Trips,Branch Events
ORGANIZER;CN="Contact the Beer Bus Organiser%3A":MAILTO:social@saws.camra.org.uk
END:VEVENT
END:VCALENDAR