BEGIN:VCALENDAR
VERSION:2.0
PRODID:-//Shrewsbury and West Shropshire CAMRA - ECPv6.15.20//NONSGML v1.0//EN
CALSCALE:GREGORIAN
METHOD:PUBLISH
X-WR-CALNAME:Shrewsbury and West Shropshire CAMRA
X-ORIGINAL-URL:https://saws.camra.org.uk
X-WR-CALDESC:Events for Shrewsbury and West Shropshire CAMRA
REFRESH-INTERVAL;VALUE=DURATION:PT1H
X-Robots-Tag:noindex
X-PUBLISHED-TTL:PT1H
BEGIN:VTIMEZONE
TZID:Europe/London
BEGIN:DAYLIGHT
TZOFFSETFROM:+0000
TZOFFSETTO:+0100
TZNAME:BST
DTSTART:20240331T010000
END:DAYLIGHT
BEGIN:STANDARD
TZOFFSETFROM:+0100
TZOFFSETTO:+0000
TZNAME:GMT
DTSTART:20241027T010000
END:STANDARD
BEGIN:DAYLIGHT
TZOFFSETFROM:+0000
TZOFFSETTO:+0100
TZNAME:BST
DTSTART:20250330T010000
END:DAYLIGHT
BEGIN:STANDARD
TZOFFSETFROM:+0100
TZOFFSETTO:+0000
TZNAME:GMT
DTSTART:20251026T010000
END:STANDARD
BEGIN:DAYLIGHT
TZOFFSETFROM:+0000
TZOFFSETTO:+0100
TZNAME:BST
DTSTART:20260329T010000
END:DAYLIGHT
BEGIN:STANDARD
TZOFFSETFROM:+0100
TZOFFSETTO:+0000
TZNAME:GMT
DTSTART:20261025T010000
END:STANDARD
END:VTIMEZONE
BEGIN:VEVENT
DTSTART;TZID=Europe/London:20250417T113000
DTEND;TZID=Europe/London:20250417T180000
DTSTAMP:20260421T132423
CREATED:20241130T223030Z
LAST-MODIFIED:20250415T203118Z
UID:8776-1744889400-1744912800@saws.camra.org.uk
SUMMARY:Public Transport Group Trip to Tilley Green & Wem
DESCRIPTION:Social and beer scoring trip by public transport from Shrewsbury to Tilley Green & Wem. Members and non-members welcome! \n\n\n\nThis will be a slightly more relaxed Wem trip than usual\, as the Dickin Arms and the Fox are both still closed at the moment. So we will be going to one pub in Tilley and four in Wem.    \n\n\n\nTravel Information: \n\n\n\nShrewsbury to Tilley by bus:   On the Arriva 511 bus at 11:45 from Stand L in Shrewsbury bus station. This should arrive at Tilley Green crossroads at 12:24\, leaving a short walk to the Tilley Raven pub. \n\n\n\nTilley to Wem:   A 15 minute walk into Wem town centre. \n\n\n\nWem to Shrewsbury by bus:   The 511 bus goes from outside Wem railway station at 17:10\, arriving at Shrewsbury bus station at 18:02 \n\n\n\nWem to Shrewsbury by train:   Either the 16:34 arriving in Shrewsbury at 16:45\, or the 17:54 arriving in Shrewsbury at 18:12    \n\n\n\nPubs: \n\n\n\nTilly Raven (opens at 12:00) \n\n\n\nWarbling Tit \n\n\n\nCastle \n\n\n\nWhite Lion \n\n\n\nHawkestone  (opens at 16:00).   \n\n\n\nFor more information about our Public Transport Group (PTG) trips\, please see the About Our Events page.
URL:https://saws.camra.org.uk/whats-on/public-transport-group-trip-to-tilley-green-wem/
LOCATION:Trip starts at Shrewsbury Bus Station\, Raven Meadows\, Shrewsbury\, Shropshire\, SY1 1PE\, United Kingdom
CATEGORIES:Branch Events,PTG Trips
ORGANIZER;CN="Contact the PTG Organiser%3A":MAILTO:ptg@saws.camra.org.uk
END:VEVENT
END:VCALENDAR