BEGIN:VCALENDAR
VERSION:2.0
PRODID:-//Shrewsbury and West Shropshire CAMRA - ECPv6.15.20//NONSGML v1.0//EN
CALSCALE:GREGORIAN
METHOD:PUBLISH
X-ORIGINAL-URL:https://saws.camra.org.uk
X-WR-CALDESC:Events for Shrewsbury and West Shropshire CAMRA
REFRESH-INTERVAL;VALUE=DURATION:PT1H
X-Robots-Tag:noindex
X-PUBLISHED-TTL:PT1H
BEGIN:VTIMEZONE
TZID:Europe/London
BEGIN:DAYLIGHT
TZOFFSETFROM:+0000
TZOFFSETTO:+0100
TZNAME:BST
DTSTART:20240331T010000
END:DAYLIGHT
BEGIN:STANDARD
TZOFFSETFROM:+0100
TZOFFSETTO:+0000
TZNAME:GMT
DTSTART:20241027T010000
END:STANDARD
BEGIN:DAYLIGHT
TZOFFSETFROM:+0000
TZOFFSETTO:+0100
TZNAME:BST
DTSTART:20250330T010000
END:DAYLIGHT
BEGIN:STANDARD
TZOFFSETFROM:+0100
TZOFFSETTO:+0000
TZNAME:GMT
DTSTART:20251026T010000
END:STANDARD
BEGIN:DAYLIGHT
TZOFFSETFROM:+0000
TZOFFSETTO:+0100
TZNAME:BST
DTSTART:20260329T010000
END:DAYLIGHT
BEGIN:STANDARD
TZOFFSETFROM:+0100
TZOFFSETTO:+0000
TZNAME:GMT
DTSTART:20261025T010000
END:STANDARD
END:VTIMEZONE
BEGIN:VEVENT
DTSTART;TZID=Europe/London:20250515T103000
DTEND;TZID=Europe/London:20250515T180000
DTSTAMP:20260421T120126
CREATED:20241130T223235Z
LAST-MODIFIED:20250514T205722Z
UID:8778-1747305000-1747332000@saws.camra.org.uk
SUMMARY:Public Transport Group Trip to Whitchurch
DESCRIPTION:Social and beer scoring trip by public transport from Shrewsbury to Whitchurch. Members and non-members welcome! \n\n\n\nTrip Details \n\n\n\nAs the White Bear still seems to be shut\, it leaves us with a maximum of 8 pubs serving cask ale to get round. \n\n\n\nTravel Information \n\n\n\nMost people travelling from Shrewsbury and beyond will be getting to Whitchurch by train\, leaving a 10 minute walk from Whitchurch railway station into the town. The other option is by bus\, which may be cheaper and takes you right into Whitchurch town centre but takes nearly three times as long as the train. \n\n\n\nShrewsbury to Whitchurch by Train:  From platform 7B\, get the 10:19 train which arrives in Whitchurch at 10:47 \n\n\n\nShrewsbury to Whitchurch by Bus:    From Stand L\, either the Arriva 511 bus at 9:45 arriving at Whitchurch Bus Station at 11:10\, or Arriva 512 at 10:45 arriving in Whitchurch at 12:00 \n\n\n\nWhitchurch to Shrewsbury by Train:   Either the 16:26 arriving in Shrewsbury at 16:45\, or the 17:41 arriving in Shrewsbury at 18:12\, or the 18:28 arriving in Shrewsbury at 18:49 \n\n\n\nWhitchurch to Shrewsbury by Bus:    The 511 bus from the Bus Station outside Tesco at 16:32 arriving at 18:02 \n\n\n\nPubs \n\n\n\nA suggested order of pubs is shown below. The Crafty Dragon have kindly offered to open an hour earlier than normal for us at 3pm. \n\n\n\nRed Cow  (opens at 10:00) \n\n\n\nBlack Bear   (opens at 11:30) \n\n\n\nCock and Greyhound   (opens at 12:00) \n\n\n\nOld Town Hall Vaults   (opens at 12:00) \n\n\n\nBull’s Head   (opens at 12:00) \n\n\n\nOld Eagles   (opens at 11:00) \n\n\n\nCrafty Dragon   (will open at 15:00) \n\n\n\nWheatsheaf   (opens at 12:00) \n\n\n\nFor more information about our Public Transport Group (PTG) trips\, please see the About Our Events page.
URL:https://saws.camra.org.uk/whats-on/public-transport-group-trip-to-whitchurch-5/
LOCATION:Trip starts at Shrewsbury Railway Station\, Castle Foregate\, Shrewsbury\, Shropshire\, SY1 2DQ\, United Kingdom
CATEGORIES:Branch Events,PTG Trips
ORGANIZER;CN="Contact the PTG Organiser%3A":MAILTO:ptg@saws.camra.org.uk
END:VEVENT
END:VCALENDAR