BEGIN:VCALENDAR
VERSION:2.0
PRODID:-//Shrewsbury and West Shropshire CAMRA - ECPv6.15.20//NONSGML v1.0//EN
CALSCALE:GREGORIAN
METHOD:PUBLISH
X-ORIGINAL-URL:https://saws.camra.org.uk
X-WR-CALDESC:Events for Shrewsbury and West Shropshire CAMRA
REFRESH-INTERVAL;VALUE=DURATION:PT1H
X-Robots-Tag:noindex
X-PUBLISHED-TTL:PT1H
BEGIN:VTIMEZONE
TZID:Europe/London
BEGIN:DAYLIGHT
TZOFFSETFROM:+0000
TZOFFSETTO:+0100
TZNAME:BST
DTSTART:20240331T010000
END:DAYLIGHT
BEGIN:STANDARD
TZOFFSETFROM:+0100
TZOFFSETTO:+0000
TZNAME:GMT
DTSTART:20241027T010000
END:STANDARD
BEGIN:DAYLIGHT
TZOFFSETFROM:+0000
TZOFFSETTO:+0100
TZNAME:BST
DTSTART:20250330T010000
END:DAYLIGHT
BEGIN:STANDARD
TZOFFSETFROM:+0100
TZOFFSETTO:+0000
TZNAME:GMT
DTSTART:20251026T010000
END:STANDARD
BEGIN:DAYLIGHT
TZOFFSETFROM:+0000
TZOFFSETTO:+0100
TZNAME:BST
DTSTART:20260329T010000
END:DAYLIGHT
BEGIN:STANDARD
TZOFFSETFROM:+0100
TZOFFSETTO:+0000
TZNAME:GMT
DTSTART:20261025T010000
END:STANDARD
END:VTIMEZONE
BEGIN:VEVENT
DTSTART;TZID=Europe/London:20250619T100000
DTEND;TZID=Europe/London:20250619T180000
DTSTAMP:20260419T151510
CREATED:20241130T223434Z
LAST-MODIFIED:20250611T131025Z
UID:8780-1750327200-1750356000@saws.camra.org.uk
SUMMARY:Public Transport Group Trip to Ludlow
DESCRIPTION:Social and beer scoring trip by public transport from Shrewsbury to Ludlow. Members and non-members welcome! \n\n\n\nThe Unicorn has just re-opened as a Black Country Ales pub\, so we will have a possible 17 pubs serving real ale to choose from in or near the town centre. \n\n\n\nTravel Information \n\n\n\nMost people travelling from Shrewsbury and beyond will be getting to Ludlow by train\, leaving a few minutes walk from Ludlow railway station to Ludlow Brewery\, which will be our first beer stop. The other option is by bus\, which takes 1 hr 15 mins and drops you off by the railway station. (Note: please double-check platform numbers and bus stands listed below when you get to the railway or bus station\, as these can sometimes change) \n\n\n\nShrewsbury to Ludlow by Train:   From platform 4\, get the 10:47 which arrives in Ludlow at 11:17 \n\n\n\nShrewsbury to Ludlow by Bus:    From Stand N at Shrewsbury Bus Station\, take the Minsterley Motors 435 bus at 9:55 arriving in Ludlow adjacent to the railway station at 11:10 \n\n\n\nLudlow to Shrewsbury by Train:   Either the 16:47 arriving in Shrewsbury at 17:17\, or the 17:17 arriving in Shrewsbury at 17:47\, or the 17:44 arriving in Shrewsbury at 18:11 \n\n\n\nLudlow to Shrewsbury by Bus:    Minsterley Motors 435 bus from outside the Compasses pub on Corve Street either at 15:55 arriving in Shrewsbury bus station at 17:11\, or at 16:55 arriving in Shrewsbury at 18:11 \n\n\n\nPubs \n\n\n\nA suggested general order of pubs is shown below. As we have 17 on the list\, no-one is going to get round them all\, so generally people team up with some others and pick a subset of them to visit.  \n\n\n\nLudlow Brewery          (opens at 11:00) \n\n\n\nUnicorn          (opens at 12:00) \n\n\n\nBull Hotel          (opens at 10:00) \n\n\n\nFeathers          (opens at 11:00) \n\n\n\nQueens          (opens at 12:00) \n\n\n\nOld Street Tavern          (opens at 12:00) \n\n\n\nOlde Bull Ring Tavern          (opens at 11:00) \n\n\n\nCharlton Arms          (opens at 11:00) \n\n\n\nWheatsheaf            (opens at 12:00) \n\n\n\nBlue Boar          (opens at 11:00) \n\n\n\nGeorge          (opens at 10:00) \n\n\n\nRose and Crown          (opens at 11:00) \n\n\n\nChurch          (opens at 11:00) \n\n\n\nAnd for those staying a bit later: \n\n\n\nBlood Bay          (opens at 17:00) \n\n\n\nCompasses          (opens at 16:00) \n\n\n\nDog Hangs Well          (opens at 17:00) \n\n\n\nBridge          (opens at 16:00) \n\n\n\nHope to see you there! \n\n\n\nFor more information about our Public Transport Group (PTG) trips\, please see the About Our Events page.
URL:https://saws.camra.org.uk/whats-on/public-transport-group-trip-to-ludlow-6/
LOCATION:Trip starts at Shrewsbury Railway Station\, Castle Foregate\, Shrewsbury\, Shropshire\, SY1 2DQ\, United Kingdom
CATEGORIES:Branch Events,PTG Trips
ORGANIZER;CN="Contact the PTG Organiser%3A":MAILTO:ptg@saws.camra.org.uk
END:VEVENT
END:VCALENDAR