BEGIN:VCALENDAR
VERSION:2.0
PRODID:-//Shrewsbury and West Shropshire CAMRA - ECPv6.15.20//NONSGML v1.0//EN
CALSCALE:GREGORIAN
METHOD:PUBLISH
X-WR-CALNAME:Shrewsbury and West Shropshire CAMRA
X-ORIGINAL-URL:https://saws.camra.org.uk
X-WR-CALDESC:Events for Shrewsbury and West Shropshire CAMRA
REFRESH-INTERVAL;VALUE=DURATION:PT1H
X-Robots-Tag:noindex
X-PUBLISHED-TTL:PT1H
BEGIN:VTIMEZONE
TZID:Europe/London
BEGIN:DAYLIGHT
TZOFFSETFROM:+0000
TZOFFSETTO:+0100
TZNAME:BST
DTSTART:20240331T010000
END:DAYLIGHT
BEGIN:STANDARD
TZOFFSETFROM:+0100
TZOFFSETTO:+0000
TZNAME:GMT
DTSTART:20241027T010000
END:STANDARD
BEGIN:DAYLIGHT
TZOFFSETFROM:+0000
TZOFFSETTO:+0100
TZNAME:BST
DTSTART:20250330T010000
END:DAYLIGHT
BEGIN:STANDARD
TZOFFSETFROM:+0100
TZOFFSETTO:+0000
TZNAME:GMT
DTSTART:20251026T010000
END:STANDARD
BEGIN:DAYLIGHT
TZOFFSETFROM:+0000
TZOFFSETTO:+0100
TZNAME:BST
DTSTART:20260329T010000
END:DAYLIGHT
BEGIN:STANDARD
TZOFFSETFROM:+0100
TZOFFSETTO:+0000
TZNAME:GMT
DTSTART:20261025T010000
END:STANDARD
END:VTIMEZONE
BEGIN:VEVENT
DTSTART;TZID=Europe/London:20250701T190000
DTEND;TZID=Europe/London:20250701T210000
DTSTAMP:20260421T112957
CREATED:20250618T204214Z
LAST-MODIFIED:20250618T204243Z
UID:9778-1751396400-1751403600@saws.camra.org.uk
SUMMARY:Festival Working Party
DESCRIPTION:Shrewsbury & West Shropshire CAMRA festival working party\, organising the next Shrewsbury Beer Festival. 7:15pm start at the Prince of Wales in Shrewsbury. Members and non-members welcome. \n\n\n\nFor more information on these meetings\, see the Festival Working Party section on the About Our Events page.
URL:https://saws.camra.org.uk/whats-on/festival-working-party-28/
LOCATION:Prince of Wales\, 30 Bynner St\, Shrewsbury\, SY3 7NZ\, United Kingdom
CATEGORIES:Branch Events,Festival Meetings,Meetings
ORGANIZER;CN="Contact the Meeting Organiser%3A":MAILTO:chair@saws.camra.org.uk
END:VEVENT
END:VCALENDAR