BEGIN:VCALENDAR
VERSION:2.0
PRODID:-//Shrewsbury and West Shropshire CAMRA - ECPv6.15.20//NONSGML v1.0//EN
CALSCALE:GREGORIAN
METHOD:PUBLISH
X-ORIGINAL-URL:https://saws.camra.org.uk
X-WR-CALDESC:Events for Shrewsbury and West Shropshire CAMRA
REFRESH-INTERVAL;VALUE=DURATION:PT1H
X-Robots-Tag:noindex
X-PUBLISHED-TTL:PT1H
BEGIN:VTIMEZONE
TZID:Europe/London
BEGIN:DAYLIGHT
TZOFFSETFROM:+0000
TZOFFSETTO:+0100
TZNAME:BST
DTSTART:20240331T010000
END:DAYLIGHT
BEGIN:STANDARD
TZOFFSETFROM:+0100
TZOFFSETTO:+0000
TZNAME:GMT
DTSTART:20241027T010000
END:STANDARD
BEGIN:DAYLIGHT
TZOFFSETFROM:+0000
TZOFFSETTO:+0100
TZNAME:BST
DTSTART:20250330T010000
END:DAYLIGHT
BEGIN:STANDARD
TZOFFSETFROM:+0100
TZOFFSETTO:+0000
TZNAME:GMT
DTSTART:20251026T010000
END:STANDARD
BEGIN:DAYLIGHT
TZOFFSETFROM:+0000
TZOFFSETTO:+0100
TZNAME:BST
DTSTART:20260329T010000
END:DAYLIGHT
BEGIN:STANDARD
TZOFFSETFROM:+0100
TZOFFSETTO:+0000
TZNAME:GMT
DTSTART:20261025T010000
END:STANDARD
END:VTIMEZONE
BEGIN:VEVENT
DTSTART;TZID=Europe/London:20250717T110000
DTEND;TZID=Europe/London:20250717T180000
DTSTAMP:20260421T131144
CREATED:20241130T223647Z
LAST-MODIFIED:20250710T092522Z
UID:8782-1752750000-1752775200@saws.camra.org.uk
SUMMARY:Public Transport Group Trip to Whittington\, Welsh Frankton\, Ellesmere
DESCRIPTION:Social and beer scoring trip by public transport from Shrewsbury to Whittington\, Welsh Frankton and Ellesmere. Members and non-members welcome! \n\n\n\nFor those that haven’t been before\, Whittington is a picturesque village near Oswestry with two pleasant pubs\, the Narrow Boat Inn near Welsh Frankton is in a superb position next to the canal\, and Ellesmere has an interesting range of pubs including the White Hart\, a regular Good Beer Guide entry. The Black Lion has recently reopened in Ellesmere\, so that will be worth checking out too. \n\n\n\nWe will be going to 2 pubs in Whittington\, 1 near Welsh Frankton\, and up to 7 pubs in Ellesmere. Due to bus timings\, we will get just under an hour in each of the first 3 pubs\, but then just over two hours to do as many Ellesmere pubs as we can fit in. We may have to split up to cover them all.  \n\n\n\nTravel Information \n\n\n\nWe will meet at Shrewsbury bus station just before 11:00\, to get the Oswestry bus\, usually from Stand G. Please note that the bus times have changed since last year\, so we are setting off a bit earlier from Shrewsbury\, and the bus back from Ellesmere is now slightly later. \n\n\n\nShrewsbury to Whittington:   11:00 Arriva X5\, arriving at 11:43 \n\n\n\nWhittington to Narrowboat\, Welsh Frankton:   13:42 Lakeside 449\, arriving at 13:46 \n\n\n\nNarrowboat\, Welsh Frankton to Ellesmere:   14:46 Lakeside 449\, arriving at 14:53  \n\n\n\nEllesmere to Shrewsbury:   17:25 Lakeside 501\, arriving at 18:10 \n\n\n\nPubs \n\n\n\nWhittington: \n\n\n\nWhite Lion   (opens at 11:30) \n\n\n\nOlde Boot   (opens at 12:00) \n\n\n\nWelsh Frankton: \n\n\n\nNarrow Boat   (opens at 12:00) \n\n\n\nEllesmere: \n\n\n\nRed Lion   (opens at 8:00) \n\n\n\nSwan   (opens at 11:00) \n\n\n\nMarket Hotel   (opens at 12:00) \n\n\n\nBlack Lion   (opens at 12:00) \n\n\n\nVault   (opens at 16:00) \n\n\n\nEllesmere Hotel   (opens at 16:00) \n\n\n\nWhite Hart   (opens at 16:00) \n\n\n\nHope to see you there. \n\n\n\nFor more information about our Public Transport Group (PTG) trips\, please see the About Our Events page.
URL:https://saws.camra.org.uk/whats-on/public-transport-group-trip-to-whittington-welsh-frankton-ellesmere-3/
LOCATION:Trip starts at Shrewsbury Bus Station\, Raven Meadows\, Shrewsbury\, Shropshire\, SY1 1PE\, United Kingdom
CATEGORIES:Branch Events,PTG Trips
ORGANIZER;CN="Contact the PTG Organiser%3A":MAILTO:ptg@saws.camra.org.uk
END:VEVENT
END:VCALENDAR