BEGIN:VCALENDAR
VERSION:2.0
PRODID:-//Shrewsbury and West Shropshire CAMRA - ECPv6.15.20//NONSGML v1.0//EN
CALSCALE:GREGORIAN
METHOD:PUBLISH
X-ORIGINAL-URL:https://saws.camra.org.uk
X-WR-CALDESC:Events for Shrewsbury and West Shropshire CAMRA
REFRESH-INTERVAL;VALUE=DURATION:PT1H
X-Robots-Tag:noindex
X-PUBLISHED-TTL:PT1H
BEGIN:VTIMEZONE
TZID:Europe/London
BEGIN:DAYLIGHT
TZOFFSETFROM:+0000
TZOFFSETTO:+0100
TZNAME:BST
DTSTART:20240331T010000
END:DAYLIGHT
BEGIN:STANDARD
TZOFFSETFROM:+0100
TZOFFSETTO:+0000
TZNAME:GMT
DTSTART:20241027T010000
END:STANDARD
BEGIN:DAYLIGHT
TZOFFSETFROM:+0000
TZOFFSETTO:+0100
TZNAME:BST
DTSTART:20250330T010000
END:DAYLIGHT
BEGIN:STANDARD
TZOFFSETFROM:+0100
TZOFFSETTO:+0000
TZNAME:GMT
DTSTART:20251026T010000
END:STANDARD
BEGIN:DAYLIGHT
TZOFFSETFROM:+0000
TZOFFSETTO:+0100
TZNAME:BST
DTSTART:20260329T010000
END:DAYLIGHT
BEGIN:STANDARD
TZOFFSETFROM:+0100
TZOFFSETTO:+0000
TZNAME:GMT
DTSTART:20261025T010000
END:STANDARD
END:VTIMEZONE
BEGIN:VEVENT
DTSTART;TZID=Europe/London:20250821T100000
DTEND;TZID=Europe/London:20250821T180000
DTSTAMP:20260425T115146
CREATED:20241130T223846Z
LAST-MODIFIED:20250814T123330Z
UID:8784-1755770400-1755799200@saws.camra.org.uk
SUMMARY:Public Transport Group Trip to Bishops Castle & Pontesbury
DESCRIPTION:Social and beer scoring trip by public transport from Shrewsbury to Bishops Castle & Pontesbury. Members and non-members welcome! \n\n\n\nThis month’s PTG trip will on Thursday 21st August to Bishops Castle and Pontesbury by bus. This is going to be a more relaxed trip than normal\, as we only have 2 pubs available to visit in Bishops Castle due to the Three Tuns being temporarily closed. However\, the two open pubs include the Castle Hotel which is a current GBG entry and has one of the best beer gardens in our branch area\, and the Six Bells which normally has a choice of 5 real ales. We will also be calling in at Pontesbury on the way back to visit the Plough and the Nag’s Head\, both decent pubs each with 3 ales on.  \n\n\n\nTravel Information \n\n\n\nWe will meet at Shrewsbury bus station at 10:00\, to get the Bishops Castle bus\, usually from Stand N. All buses are run by Minsterley Motors. \n\n\n\nShrewsbury to Bishops Castle:   10:05  553 bus from Stand N\, arriving at 11:05 \n\n\n\nBishops Castle to Pontesbury:   13:30  553 bus from opposite the Boar’s Head\, arriving at 14:03 \n\n\n\nPontesbury to Shrewsbury:   16:13  553 bus from outside the Nag’s Head\, arriving at 16:40 \n\n\n\nPubs \n\n\n\nBishops Castle: \n\n\n\nCastle Hotel   (opens at 11:00) \n\n\n\nSix Bells   (opens at 12:00) \n\n\n\nPontesbury: \n\n\n\nPlough   (opens at 2:00pm) \n\n\n\nNag’s Head   (opens at 12:00) \n\n\n\nHope to see you there! \n\n\n\nFor more information about our Public Transport Group (PTG) trips\, please see the About Our Events page.
URL:https://saws.camra.org.uk/whats-on/public-transport-group-trip-to-bishops-castle-pontesbury-3/
LOCATION:Trip starts at Shrewsbury Bus Station\, Raven Meadows\, Shrewsbury\, Shropshire\, SY1 1PE\, United Kingdom
CATEGORIES:Branch Events,PTG Trips
ORGANIZER;CN="Contact the PTG Organiser%3A":MAILTO:ptg@saws.camra.org.uk
END:VEVENT
END:VCALENDAR