BEGIN:VCALENDAR
VERSION:2.0
PRODID:-//Shrewsbury and West Shropshire CAMRA - ECPv6.15.20//NONSGML v1.0//EN
CALSCALE:GREGORIAN
METHOD:PUBLISH
X-WR-CALNAME:Shrewsbury and West Shropshire CAMRA
X-ORIGINAL-URL:https://saws.camra.org.uk
X-WR-CALDESC:Events for Shrewsbury and West Shropshire CAMRA
REFRESH-INTERVAL;VALUE=DURATION:PT1H
X-Robots-Tag:noindex
X-PUBLISHED-TTL:PT1H
BEGIN:VTIMEZONE
TZID:Europe/London
BEGIN:DAYLIGHT
TZOFFSETFROM:+0000
TZOFFSETTO:+0100
TZNAME:BST
DTSTART:20240331T010000
END:DAYLIGHT
BEGIN:STANDARD
TZOFFSETFROM:+0100
TZOFFSETTO:+0000
TZNAME:GMT
DTSTART:20241027T010000
END:STANDARD
BEGIN:DAYLIGHT
TZOFFSETFROM:+0000
TZOFFSETTO:+0100
TZNAME:BST
DTSTART:20250330T010000
END:DAYLIGHT
BEGIN:STANDARD
TZOFFSETFROM:+0100
TZOFFSETTO:+0000
TZNAME:GMT
DTSTART:20251026T010000
END:STANDARD
BEGIN:DAYLIGHT
TZOFFSETFROM:+0000
TZOFFSETTO:+0100
TZNAME:BST
DTSTART:20260329T010000
END:DAYLIGHT
BEGIN:STANDARD
TZOFFSETFROM:+0100
TZOFFSETTO:+0000
TZNAME:GMT
DTSTART:20261025T010000
END:STANDARD
END:VTIMEZONE
BEGIN:VEVENT
DTSTART;TZID=Europe/London:20250918T103000
DTEND;TZID=Europe/London:20250918T173000
DTSTAMP:20260425T161305
CREATED:20241130T224039Z
LAST-MODIFIED:20250915T122245Z
UID:8786-1758191400-1758216600@saws.camra.org.uk
SUMMARY:Public Transport Group Trip to the Strettons
DESCRIPTION:Social and beer scoring trip by public transport from Shrewsbury to the Strettons. Members and non-members welcome! \n\n\n\nThis month’s PTG trip will on Thursday 18th September to the Strettons by bus. We will have at 8 pubs to visit in Little Stretton\, Church Stretton and All Stretton. These will include two Good Beer Guide pubs: the Green Dragon in Little Stretton and the Yew Tree in All Stretton. Also\, the Old Bike Shop in Church Stretton has very kindly offered to open an hour earlier for us at 3pm. \n\n\n\nTravel Information \n\n\n\nWe will meet at Shrewsbury bus station around 10:45\, to get the 435 Minsterley Motors bus from Stand N.  \n\n\n\nShrewsbury to Little Stretton:   10:55  435 bus from Stand N\, arriving at the Green Dragon at 11:41 \n\n\n\nLittle Stretton to Church Stretton:   12:50  435 bus from the Ragleth\, arriving at the Church stop at 12:55 \n\n\n\nChurch Stretton to All Stretton:   15:30  435 bus from the Beaumont Road stop\, arriving at 15:35 \n\n\n\nAll Stretton to Shrewsbury:   16:35  435 bus\, arriving at 17:11 \n\n\n\nPubs \n\n\n\nLittle Stretton: \n\n\n\nGreen Dragon   (opens at 11:30) \n\n\n\nRagleth   (opens at 12:00) \n\n\n\nChurch Stretton: \n\n\n\nKing’s Arms   (opens at 12:00) \n\n\n\nBuck’s Head   (opens at 12:00) \n\n\n\nHousmans   (opens at 09:00) \n\n\n\nOld Coppers Malt House   (opens at 12:00) \n\n\n\nOld Bike Shop   (opening earlier for us at 15:00) \n\n\n\nAll Stretton: \n\n\n\nYew Tree   (opens at 2:00pm) \n\n\n\nHope to see you all on the trip. \n\n\n\nFor more information about our Public Transport Group (PTG) trips\, please see the About Our Events page.
URL:https://saws.camra.org.uk/whats-on/public-transport-group-trip-to-the-strettons-3/
LOCATION:Trip starts at Shrewsbury Bus Station\, Raven Meadows\, Shrewsbury\, Shropshire\, SY1 1PE\, United Kingdom
CATEGORIES:Branch Events,PTG Trips
ORGANIZER;CN="Contact the PTG Organiser%3A":MAILTO:ptg@saws.camra.org.uk
END:VEVENT
END:VCALENDAR