BEGIN:VCALENDAR
VERSION:2.0
PRODID:-//Shrewsbury and West Shropshire CAMRA - ECPv6.15.20//NONSGML v1.0//EN
CALSCALE:GREGORIAN
METHOD:PUBLISH
X-ORIGINAL-URL:https://saws.camra.org.uk
X-WR-CALDESC:Events for Shrewsbury and West Shropshire CAMRA
REFRESH-INTERVAL;VALUE=DURATION:PT1H
X-Robots-Tag:noindex
X-PUBLISHED-TTL:PT1H
BEGIN:VTIMEZONE
TZID:Europe/London
BEGIN:DAYLIGHT
TZOFFSETFROM:+0000
TZOFFSETTO:+0100
TZNAME:BST
DTSTART:20240331T010000
END:DAYLIGHT
BEGIN:STANDARD
TZOFFSETFROM:+0100
TZOFFSETTO:+0000
TZNAME:GMT
DTSTART:20241027T010000
END:STANDARD
BEGIN:DAYLIGHT
TZOFFSETFROM:+0000
TZOFFSETTO:+0100
TZNAME:BST
DTSTART:20250330T010000
END:DAYLIGHT
BEGIN:STANDARD
TZOFFSETFROM:+0100
TZOFFSETTO:+0000
TZNAME:GMT
DTSTART:20251026T010000
END:STANDARD
BEGIN:DAYLIGHT
TZOFFSETFROM:+0000
TZOFFSETTO:+0100
TZNAME:BST
DTSTART:20260329T010000
END:DAYLIGHT
BEGIN:STANDARD
TZOFFSETFROM:+0100
TZOFFSETTO:+0000
TZNAME:GMT
DTSTART:20261025T010000
END:STANDARD
END:VTIMEZONE
BEGIN:VEVENT
DTSTART;TZID=Europe/London:20251125T190000
DTEND;TZID=Europe/London:20251125T210000
DTSTAMP:20260425T201834
CREATED:20251015T092518Z
LAST-MODIFIED:20251119T111328Z
UID:10694-1764097200-1764104400@saws.camra.org.uk
SUMMARY:Branch Meeting
DESCRIPTION:Shrewsbury & West Shropshire CAMRA branch meeting at the Royal Oak in Coton Hill\, Shrewsbury. The meeting will be held in the room to the right of the door NOT upstairs. Note the venue change – we were meant to be meeting at the Salopian Bar but they can no longer accomodate us on this date. Members and non-members are welcome. \n\n\n\nNote that the start time for branch meetings will now be 7:15pm\, to give people who are getting the train to Shrewsbury time to walk across town. \n\n\n\nFor more information on what happens in Branch meetings\, please see the Branch Management section in the Our Branch page.
URL:https://saws.camra.org.uk/whats-on/branch-meeting-32/
LOCATION:Royal Oak\, Coton Hill\, Shrewsbury\, Shropshire\, SY1 2DZ\, United Kingdom
CATEGORIES:Branch Events
ORGANIZER;CN="Contact the Meeting Organiser%3A":MAILTO:chair@saws.camra.org.uk
END:VEVENT
END:VCALENDAR