BEGIN:VCALENDAR
VERSION:2.0
PRODID:-//Shrewsbury and West Shropshire CAMRA - ECPv6.15.20//NONSGML v1.0//EN
CALSCALE:GREGORIAN
METHOD:PUBLISH
X-ORIGINAL-URL:https://saws.camra.org.uk
X-WR-CALDESC:Events for Shrewsbury and West Shropshire CAMRA
REFRESH-INTERVAL;VALUE=DURATION:PT1H
X-Robots-Tag:noindex
X-PUBLISHED-TTL:PT1H
BEGIN:VTIMEZONE
TZID:Europe/London
BEGIN:DAYLIGHT
TZOFFSETFROM:+0000
TZOFFSETTO:+0100
TZNAME:BST
DTSTART:20240331T010000
END:DAYLIGHT
BEGIN:STANDARD
TZOFFSETFROM:+0100
TZOFFSETTO:+0000
TZNAME:GMT
DTSTART:20241027T010000
END:STANDARD
BEGIN:DAYLIGHT
TZOFFSETFROM:+0000
TZOFFSETTO:+0100
TZNAME:BST
DTSTART:20250330T010000
END:DAYLIGHT
BEGIN:STANDARD
TZOFFSETFROM:+0100
TZOFFSETTO:+0000
TZNAME:GMT
DTSTART:20251026T010000
END:STANDARD
BEGIN:DAYLIGHT
TZOFFSETFROM:+0000
TZOFFSETTO:+0100
TZNAME:BST
DTSTART:20260329T010000
END:DAYLIGHT
BEGIN:STANDARD
TZOFFSETFROM:+0100
TZOFFSETTO:+0000
TZNAME:GMT
DTSTART:20261025T010000
END:STANDARD
END:VTIMEZONE
BEGIN:VEVENT
DTSTART;TZID=Europe/London:20251206T093000
DTEND;TZID=Europe/London:20251206T200000
DTSTAMP:20260425T165242
CREATED:20250919T120710Z
LAST-MODIFIED:20251119T112126Z
UID:10171-1765013400-1765051200@saws.camra.org.uk
SUMMARY:Loughborough Trip
DESCRIPTION:Shrewsbury and West Shropshire CAMRA and friends trip to Loughborough ( loogabarooga) Saturday 6th December to sample town centre pubs. \n\n\n\nFollowing discussion at the AGM\, travel to and from Loughborough is recommended by rail from Shrewsbury\, OR Wem/ Whitchurch. The organiser\, Philip Hamson\, will be waiting in Loughborough at the railway station whichever route you take. \n\n\n\nSuggested train from Shrewsbury is the 08:59 to Birmingham New Street\, then B’ham New St to Leicester\, then finally Leicester to Loughborough arriving at 11:.26. Return by the same route leaves Loughborough at 17:32 or better\, 18:.30. \n\n\n\nSuggested train from Wem via Whitchurch is the 08:35 to Crewe. 50 minutes wait in the coffee shop/waiting room\, then Crewe to Derby\, Derby to Loughborough – arriving in Loughborough at 11:51. Philip will be waiting for you outside Loughborough Station. Suitable returns leave Loughborough at 17:50\, or if you miss it\, 17:54 same route back\, arriving in  Wem at 20:36.  \n\n\n\nThe suggested pubs and route map are shown below. Beers to look out for will be published closer to the day.  \n\n\n\nThe cost to you will depend on what railcard\, if any\, you possess or what deals you can get on the ticket splitting sites\, or what sort of group you can form.  \n\n\n\n \n\n\n\n \n\n\n\n\n\n\n\n \n\n\n\nOne lap is 1.4 miles. \n\n\n\nSuggested Pubs: \n\n\n\nThe Amber rooms at drop off Lloyds No1 don’t forget your Camra vouchers\, shown with red circle. \n\n\n\nOpposite the Amber Rooms \n\n\n\nThe Swan in the rushes\, Castle Rock don’t forget your Camra vouchers \n\n\n\nThe Needle and Pin micropub Don’t miss record player upstairs \n\n\n\nThe mini monocle\, Nottingham also good music \n\n\n\nThe White Hart\, free\, beer garden \n\n\n\nNot shown but next door The 3 nuns\, Everards \n\n\n\nMoonface brewery and Tap micropub with tour Moonface \n\n\n\nThe organ Grinder\, Blue Monkey \n\n\n\nThe wheeltapper\, free \n\n\n\nFood: \n\n\n\nThe Amber rooms serve the usual wethermenu \n\n\n\nThe Swan has a lunchtime menu of hot and cold food \n\n\n\nThe wheeltapper will allow you to order pizza and might order for you. Do so on arrival. \n\n\n\nIn town also note Greggs\, German Donner and fish and chips notably\, Devonshire fisheries corner of cattle market\, granby st. \n\n\n\nArtefacts to note: \n\n\n\nVarious benches and murals celebrating great central railway and Ladybird books \,printed in Loughborough \n\n\n\nSock man statue \n\n\n\nNote Loughborough market will be on and the town centre may be full in addition with student undergraduates. \n\n\n\nDeparture from outside the Amber rooms at 6.00 p.m. promptly.
URL:https://saws.camra.org.uk/whats-on/loughborough-trip/
LOCATION:Shropshire
CATEGORIES:Branch Events
ORGANIZER;CN="Contact the Event Organiser (PH)":MAILTO:membership@saws.camra.org.uk
END:VEVENT
END:VCALENDAR