BEGIN:VCALENDAR
VERSION:2.0
PRODID:-//Shrewsbury and West Shropshire CAMRA - ECPv6.15.20//NONSGML v1.0//EN
CALSCALE:GREGORIAN
METHOD:PUBLISH
X-ORIGINAL-URL:https://saws.camra.org.uk
X-WR-CALDESC:Events for Shrewsbury and West Shropshire CAMRA
REFRESH-INTERVAL;VALUE=DURATION:PT1H
X-Robots-Tag:noindex
X-PUBLISHED-TTL:PT1H
BEGIN:VTIMEZONE
TZID:Europe/London
BEGIN:DAYLIGHT
TZOFFSETFROM:+0000
TZOFFSETTO:+0100
TZNAME:BST
DTSTART:20240331T010000
END:DAYLIGHT
BEGIN:STANDARD
TZOFFSETFROM:+0100
TZOFFSETTO:+0000
TZNAME:GMT
DTSTART:20241027T010000
END:STANDARD
BEGIN:DAYLIGHT
TZOFFSETFROM:+0000
TZOFFSETTO:+0100
TZNAME:BST
DTSTART:20250330T010000
END:DAYLIGHT
BEGIN:STANDARD
TZOFFSETFROM:+0100
TZOFFSETTO:+0000
TZNAME:GMT
DTSTART:20251026T010000
END:STANDARD
BEGIN:DAYLIGHT
TZOFFSETFROM:+0000
TZOFFSETTO:+0100
TZNAME:BST
DTSTART:20260329T010000
END:DAYLIGHT
BEGIN:STANDARD
TZOFFSETFROM:+0100
TZOFFSETTO:+0000
TZNAME:GMT
DTSTART:20261025T010000
END:STANDARD
END:VTIMEZONE
BEGIN:VEVENT
DTSTART;TZID=Europe/London:20251224T130000
DTEND;TZID=Europe/London:20251224T180000
DTSTAMP:20260425T165302
CREATED:20251204T232636Z
LAST-MODIFIED:20251222T211032Z
UID:10991-1766581200-1766599200@saws.camra.org.uk
SUMMARY:Christmas Eve Shrewsbury Walkabout
DESCRIPTION:Our annual Christmas Eve Shrewsbury walkabout\, which gives everyone a chance to meet up for a few drinks before the Christmas break. Also handy for combining a bit of last minute Christmas shopping with some pubs! \n\n\n\nThis year\, we will be starting the walkabout at our Shrewsbury Pub of the Year\, the Prince of Wales on Bynner Street at 1pm. After that we will go to the Cross Foxes before heading into town. We are then likely to visit the Nag’s Head\, Cromwell’s\, Three Fishes\, Admiral Benbow and the newly-opened Coach and Horses.  \n\n\n\nIf you are short on time\, feel free to join us just for one or two pubs. If you want to know where we are at a particular time\, there will be updates on our Facebook page. \n\n\n\nHope to see you there. Both members and non-members are very welcome!
URL:https://saws.camra.org.uk/whats-on/christmas-eve-shrewsbury-walkabout-2/
LOCATION:Prince of Wales\, 30 Bynner St\, Shrewsbury\, SY3 7NZ\, United Kingdom
CATEGORIES:Branch Events,Walkabouts
END:VEVENT
END:VCALENDAR