BEGIN:VCALENDAR
VERSION:2.0
PRODID:-//Shrewsbury and West Shropshire CAMRA - ECPv6.15.20//NONSGML v1.0//EN
CALSCALE:GREGORIAN
METHOD:PUBLISH
X-ORIGINAL-URL:https://saws.camra.org.uk
X-WR-CALDESC:Events for Shrewsbury and West Shropshire CAMRA
REFRESH-INTERVAL;VALUE=DURATION:PT1H
X-Robots-Tag:noindex
X-PUBLISHED-TTL:PT1H
BEGIN:VTIMEZONE
TZID:Europe/London
BEGIN:DAYLIGHT
TZOFFSETFROM:+0000
TZOFFSETTO:+0100
TZNAME:BST
DTSTART:20250330T010000
END:DAYLIGHT
BEGIN:STANDARD
TZOFFSETFROM:+0100
TZOFFSETTO:+0000
TZNAME:GMT
DTSTART:20251026T010000
END:STANDARD
BEGIN:DAYLIGHT
TZOFFSETFROM:+0000
TZOFFSETTO:+0100
TZNAME:BST
DTSTART:20260329T010000
END:DAYLIGHT
BEGIN:STANDARD
TZOFFSETFROM:+0100
TZOFFSETTO:+0000
TZNAME:GMT
DTSTART:20261025T010000
END:STANDARD
BEGIN:DAYLIGHT
TZOFFSETFROM:+0000
TZOFFSETTO:+0100
TZNAME:BST
DTSTART:20270328T010000
END:DAYLIGHT
BEGIN:STANDARD
TZOFFSETFROM:+0100
TZOFFSETTO:+0000
TZNAME:GMT
DTSTART:20271031T010000
END:STANDARD
END:VTIMEZONE
BEGIN:VEVENT
DTSTART;TZID=Europe/London:20260116T190000
DTEND;TZID=Europe/London:20260116T220000
DTSTAMP:20260425T150246
CREATED:20251013T212700Z
LAST-MODIFIED:20251219T093633Z
UID:10665-1768590000-1768600800@saws.camra.org.uk
SUMMARY:Branch Annual Dinner
DESCRIPTION:We will once again be having the Branch Annual Dinner on Friday 16th January at the Prince Rupert Hotel in Shrewsbury. 7pm for 7:30 sit down. All (including plus ones if they would like to join us) welcome.  \n\n\n\nThe cost is £42 pp for 3 courses and £36.50 pp for 2 courses. Real Ale will once again be provided by us\, proceeds of sales to branch funds. If you would like to attend\, please notify Helen Arkell (either in person or via pubs@saws.camra.org.uk) along with your menu choices. The deadline for booking a place is the 3rd January. Payment in advance preferred.
URL:https://saws.camra.org.uk/whats-on/branch-annual-dinner-3/
LOCATION:Prince Rupert Hotel\, Butcher Row\, Shrewsbury\, Shropshire\, SY1 1UQ\, United Kingdom
CATEGORIES:Annual Dinner,Branch Events
ORGANIZER;CN="Contact the Annual Dinner Organiser":MAILTO:pubs@saws.camra.org.uk
END:VEVENT
END:VCALENDAR