BEGIN:VCALENDAR
VERSION:2.0
PRODID:-//Shrewsbury and West Shropshire CAMRA - ECPv6.15.20//NONSGML v1.0//EN
CALSCALE:GREGORIAN
METHOD:PUBLISH
X-WR-CALNAME:Shrewsbury and West Shropshire CAMRA
X-ORIGINAL-URL:https://saws.camra.org.uk
X-WR-CALDESC:Events for Shrewsbury and West Shropshire CAMRA
REFRESH-INTERVAL;VALUE=DURATION:PT1H
X-Robots-Tag:noindex
X-PUBLISHED-TTL:PT1H
BEGIN:VTIMEZONE
TZID:Europe/London
BEGIN:DAYLIGHT
TZOFFSETFROM:+0000
TZOFFSETTO:+0100
TZNAME:BST
DTSTART:20250330T010000
END:DAYLIGHT
BEGIN:STANDARD
TZOFFSETFROM:+0100
TZOFFSETTO:+0000
TZNAME:GMT
DTSTART:20251026T010000
END:STANDARD
BEGIN:DAYLIGHT
TZOFFSETFROM:+0000
TZOFFSETTO:+0100
TZNAME:BST
DTSTART:20260329T010000
END:DAYLIGHT
BEGIN:STANDARD
TZOFFSETFROM:+0100
TZOFFSETTO:+0000
TZNAME:GMT
DTSTART:20261025T010000
END:STANDARD
BEGIN:DAYLIGHT
TZOFFSETFROM:+0000
TZOFFSETTO:+0100
TZNAME:BST
DTSTART:20270328T010000
END:DAYLIGHT
BEGIN:STANDARD
TZOFFSETFROM:+0100
TZOFFSETTO:+0000
TZNAME:GMT
DTSTART:20271031T010000
END:STANDARD
END:VTIMEZONE
BEGIN:VEVENT
DTSTART;TZID=Europe/London:20260207T090000
DTEND;TZID=Europe/London:20260207T180000
DTSTAMP:20260425T135337
CREATED:20260121T230546Z
LAST-MODIFIED:20260202T122629Z
UID:11143-1770454800-1770487200@saws.camra.org.uk
SUMMARY:Festival Thank You Trip
DESCRIPTION:Did you volunteer at Shrewsbury CAMRA Beer and Cider Festival in 2025? If so\, you are invited to join us on a trip to Tewkesbury Winter Ales Festival on Saturday 7th February 2026.  \n\n\n\nTo thank you\, we will pay for a minibus to take us there. Entry is free to CAMRA members (bring your card)\, but you will need to pay £5 for your glass and £5 for your first set of beer/cider tokens.  \n\n\n\nThe bus will leave from the bus stop layby on Smithfield Road\, just the other side of the Frankwell footbridge from the Salopian Bar at 9am. Please email Dave Ricketts daveleeds58@btinternet.com or staffing@saws.camra.org.uk to let us know you intend to come\, so we can have the right number of seats on the bus! \n\n\n\nThe expected beer list is available in pdf format at https://tewkesbury.camra.org.uk/dl.php?id=277253  \n\n\n\nIf you know of anyone that helped with the festival who may not have heard about this thank you trip\, please try and contact them and let them know the details. Thanks.
URL:https://saws.camra.org.uk/whats-on/festival-thank-you-trip-3/
LOCATION:Trip starts at Salopian Bar\, 29 Smithfield Road\, Shrewsbury\, Shropshire\, SY1 1PB\, United Kingdom
CATEGORIES:Volunteer Events
ORGANIZER;CN="Contact the Event Organiser (DR)":MAILTO:social@saws.camra.org.uk
END:VEVENT
END:VCALENDAR