BEGIN:VCALENDAR
VERSION:2.0
PRODID:-//Shrewsbury and West Shropshire CAMRA - ECPv6.15.20//NONSGML v1.0//EN
CALSCALE:GREGORIAN
METHOD:PUBLISH
X-WR-CALNAME:Shrewsbury and West Shropshire CAMRA
X-ORIGINAL-URL:https://saws.camra.org.uk
X-WR-CALDESC:Events for Shrewsbury and West Shropshire CAMRA
REFRESH-INTERVAL;VALUE=DURATION:PT1H
X-Robots-Tag:noindex
X-PUBLISHED-TTL:PT1H
BEGIN:VTIMEZONE
TZID:Europe/London
BEGIN:DAYLIGHT
TZOFFSETFROM:+0000
TZOFFSETTO:+0100
TZNAME:BST
DTSTART:20250330T010000
END:DAYLIGHT
BEGIN:STANDARD
TZOFFSETFROM:+0100
TZOFFSETTO:+0000
TZNAME:GMT
DTSTART:20251026T010000
END:STANDARD
BEGIN:DAYLIGHT
TZOFFSETFROM:+0000
TZOFFSETTO:+0100
TZNAME:BST
DTSTART:20260329T010000
END:DAYLIGHT
BEGIN:STANDARD
TZOFFSETFROM:+0100
TZOFFSETTO:+0000
TZNAME:GMT
DTSTART:20261025T010000
END:STANDARD
BEGIN:DAYLIGHT
TZOFFSETFROM:+0000
TZOFFSETTO:+0100
TZNAME:BST
DTSTART:20270328T010000
END:DAYLIGHT
BEGIN:STANDARD
TZOFFSETFROM:+0100
TZOFFSETTO:+0000
TZNAME:GMT
DTSTART:20271031T010000
END:STANDARD
END:VTIMEZONE
BEGIN:VEVENT
DTSTART;TZID=Europe/London:20260320T100000
DTEND;TZID=Europe/London:20260320T180000
DTSTAMP:20260421T170642
CREATED:20251115T210553Z
LAST-MODIFIED:20260313T111150Z
UID:10855-1774000800-1774029600@saws.camra.org.uk
SUMMARY:Public Transport Group Trip to Oswestry
DESCRIPTION:Shrewsbury & West Shropshire CAMRA social and beer scoring trip by public transport from Shrewsbury to Oswestry. Please note that this is a Friday trip. Members and non-members welcome! \n\n\n\nWe have up to 9 real ale pubs to visit in Oswestry\, including the Bailey Head (CAMRA’s National Pub of the Year 2024)\, two other Good Beer Guide pubs (Oak Inn and Bell Hotel)\, and the Griffin which has been voted our branch Pub of the Season for Spring 2026.  \n\n\n\nTRAVEL INFORMATION \n\n\n\nMeet at Shrewsbury bus station just after 10am\, to get the Arriva X5 bus to Oswestry (usually from Stand G).  \n\n\n\nShrewsbury to Oswestry: \n\n\n\n\n10:15 from Shrewsbury\, arriving at the Bear Hotel stop in Oswestry at 11:13\n\n\n\n\nOswestry to Shrewsbury: \n\n\n\n\n16:41 from opposite the Black Lion\, arriving at Shrewsbury bus station at 17:34\n\n\n\n17:26 from opposite the Black Lion\, arriving at Shrewsbury bus station at 18:19\n\n\n\n\nPUBS \n\n\n\nThe suggested order of pubs is shown below. First stop will be the Wetherspoons pub\, the Wilfred Owen\, where those that want to can grab a bite to eat before moving on.  \n\n\n\nWilfred Owen   (Wetherspoons)   – opens at 08:00 \n\n\n\nCoach House   (formerly Red Lion)   – opens 12:00 – 15:00 \n\n\n\nBailey Head   – opens at 12:00 \n\n\n\nGriffin   – opens at 11:30 \n\n\n\nFox   (Joules pub)   – opens at 10:30 \n\n\n\nWynnstay Hotel   – opens at 12:00 \n\n\n\nOak Inn   – opens at 12:00 \n\n\n\nBell   – opens at 14:00 \n\n\n\nBlack Lion   – opens at 16:00 \n\n\n\nIf this is your first PTG trip and you don’t know anyone else who is going\, please email the organiser and we will arrange to look out for you either at Shrewsbury bus station\, or at the far end. \n\n\n\nFor more information about our Public Transport Group (PTG) trips\, please see the About Our Events page. If you would like to receive regular emails with details and updates on upcoming PTG trips\, please send your email address to the PTG Organiser at ptg@saws.camra.org.uk\, and you will be added to the Public Transport Group mailing list.
URL:https://saws.camra.org.uk/whats-on/public-transport-group-trip-to-oswestry-7/
LOCATION:Trip starts at Shrewsbury Bus Station\, Raven Meadows\, Shrewsbury\, Shropshire\, SY1 1PE\, United Kingdom
CATEGORIES:PTG Trips
ORGANIZER;CN="Contact the PTG Organiser%3A":MAILTO:ptg@saws.camra.org.uk
END:VEVENT
END:VCALENDAR