BEGIN:VCALENDAR
VERSION:2.0
PRODID:-//Shrewsbury and West Shropshire CAMRA - ECPv6.15.20//NONSGML v1.0//EN
CALSCALE:GREGORIAN
METHOD:PUBLISH
X-ORIGINAL-URL:https://saws.camra.org.uk
X-WR-CALDESC:Events for Shrewsbury and West Shropshire CAMRA
REFRESH-INTERVAL;VALUE=DURATION:PT1H
X-Robots-Tag:noindex
X-PUBLISHED-TTL:PT1H
BEGIN:VTIMEZONE
TZID:Europe/London
BEGIN:DAYLIGHT
TZOFFSETFROM:+0000
TZOFFSETTO:+0100
TZNAME:BST
DTSTART:20250330T010000
END:DAYLIGHT
BEGIN:STANDARD
TZOFFSETFROM:+0100
TZOFFSETTO:+0000
TZNAME:GMT
DTSTART:20251026T010000
END:STANDARD
BEGIN:DAYLIGHT
TZOFFSETFROM:+0000
TZOFFSETTO:+0100
TZNAME:BST
DTSTART:20260329T010000
END:DAYLIGHT
BEGIN:STANDARD
TZOFFSETFROM:+0100
TZOFFSETTO:+0000
TZNAME:GMT
DTSTART:20261025T010000
END:STANDARD
BEGIN:DAYLIGHT
TZOFFSETFROM:+0000
TZOFFSETTO:+0100
TZNAME:BST
DTSTART:20270328T010000
END:DAYLIGHT
BEGIN:STANDARD
TZOFFSETFROM:+0100
TZOFFSETTO:+0000
TZNAME:GMT
DTSTART:20271031T010000
END:STANDARD
END:VTIMEZONE
BEGIN:VEVENT
DTSTART;TZID=Europe/London:20260324T190000
DTEND;TZID=Europe/London:20260324T210000
DTSTAMP:20260421T170900
CREATED:20260128T144838Z
LAST-MODIFIED:20260128T144917Z
UID:11191-1774378800-1774386000@saws.camra.org.uk
SUMMARY:Branch Meeting
DESCRIPTION:Shrewsbury & West Shropshire CAMRA branch meeting at the Prince of Wales in Shrewsbury. Members and non-members are welcome. \n\n\n\nNote that the start time for branch meetings will be 7:15pm\, to give people who are getting the train to Shrewsbury time to walk across town. \n\n\n\nFor more information on what happens in Branch meetings\, please see the Branch Management section in the Our Branch page.
URL:https://saws.camra.org.uk/whats-on/branch-meeting-35/
LOCATION:Prince of Wales\, 30 Bynner St\, Shrewsbury\, SY3 7NZ\, United Kingdom
CATEGORIES:Branch Meetings
ORGANIZER;CN="Contact the Meeting Organiser%3A":MAILTO:chair@saws.camra.org.uk
END:VEVENT
END:VCALENDAR