BEGIN:VCALENDAR
VERSION:2.0
PRODID:-//Shrewsbury and West Shropshire CAMRA - ECPv6.15.20//NONSGML v1.0//EN
CALSCALE:GREGORIAN
METHOD:PUBLISH
X-ORIGINAL-URL:https://saws.camra.org.uk
X-WR-CALDESC:Events for Shrewsbury and West Shropshire CAMRA
REFRESH-INTERVAL;VALUE=DURATION:PT1H
X-Robots-Tag:noindex
X-PUBLISHED-TTL:PT1H
BEGIN:VTIMEZONE
TZID:Europe/London
BEGIN:DAYLIGHT
TZOFFSETFROM:+0000
TZOFFSETTO:+0100
TZNAME:BST
DTSTART:20250330T010000
END:DAYLIGHT
BEGIN:STANDARD
TZOFFSETFROM:+0100
TZOFFSETTO:+0000
TZNAME:GMT
DTSTART:20251026T010000
END:STANDARD
BEGIN:DAYLIGHT
TZOFFSETFROM:+0000
TZOFFSETTO:+0100
TZNAME:BST
DTSTART:20260329T010000
END:DAYLIGHT
BEGIN:STANDARD
TZOFFSETFROM:+0100
TZOFFSETTO:+0000
TZNAME:GMT
DTSTART:20261025T010000
END:STANDARD
BEGIN:DAYLIGHT
TZOFFSETFROM:+0000
TZOFFSETTO:+0100
TZNAME:BST
DTSTART:20270328T010000
END:DAYLIGHT
BEGIN:STANDARD
TZOFFSETFROM:+0100
TZOFFSETTO:+0000
TZNAME:GMT
DTSTART:20271031T010000
END:STANDARD
END:VTIMEZONE
BEGIN:VEVENT
DTSTART;TZID=Europe/London:20260416T113000
DTEND;TZID=Europe/London:20260416T180000
DTSTAMP:20260421T113053
CREATED:20251115T211019Z
LAST-MODIFIED:20260409T092711Z
UID:10859-1776339000-1776362400@saws.camra.org.uk
SUMMARY:Public Transport Group Trip to Tilley Green and Wem
DESCRIPTION:Shrewsbury & West Shropshire CAMRA social and beer scoring trip by public transport from Shrewsbury to Tilley Green and Wem. Members and non-members welcome! \n\n\n\nThe Dickin Arms in Wem is still long-term closed\, so we will be going to one pub in Tilley and four in Wem town centre. \n\n\n\n   \n\n\n\nTRAVEL INFORMATION \n\n\n\nThe bus from Shrewsbury is the easiest way to get to Tilley Green. Coming back\, there is the choice of train or bus. \n\n\n\nShrewsbury to Tilley by Bus: \n\n\n\n\n11:45 Arriva 511 bus (usually from from Stand L) in Shrewsbury bus station\, arriving at Tilley Green crossroads at 12:25\, leaving a short walk to the Tilley Raven pub.\n\n\n\n\nTilley to Wem:    \n\n\n\n\nA 10-15 minute walk from the Tilley Raven into Wem town centre.\n\n\n\n\nWem to Shrewsbury by Bus:    \n\n\n\n\n17:11 on the Arriva 511 bus from outside Wem railway station\, arriving at Shrewsbury bus station at 18:04\n\n\n\n18:36 on the Arriva 511 bus from outside Wem railway station\, arriving at Shrewsbury bus station at 19:22\n\n\n\n\nWem to Shrewsbury by Train:    \n\n\n\n\n16:35 arriving in Shrewsbury at 16:46\n\n\n\n17:54 arriving in Shrewsbury at 18:12\n\n\n\n18:36 arriving in Shrewsbury at 18:49\n\n\n\n\n \n\n\n\nPUBS \n\n\n\nTilley Raven (opens at 12:00) \n\n\n\nWarbling Tit \n\n\n\nCastle Hotel \n\n\n\nWhite Lion \n\n\n\nHawkestone (opens at 16:00) \n\n\n\n \n\n\n\nIf this is your first PTG trip and you don’t know anyone else who is going\, please email the PTG Organiser and we will arrange to look out for you either at Shrewsbury bus station\, or at Tilley Green/Wem. \n\n\n\nHope to see you there. \n\n\n\n   \n\n\n\nFor more information about our Public Transport Group (PTG) trips\, please see the About Our Events page. If you would like to receive regular emails with details and updates on upcoming PTG trips\, please send your email address to the PTG Organiser at ptg@saws.camra.org.uk\, and you will be added to the Public Transport Group mailing list.
URL:https://saws.camra.org.uk/whats-on/public-transport-group-trip-to-tilley-green-and-wem-3/
LOCATION:Trip starts at Shrewsbury Bus Station\, Raven Meadows\, Shrewsbury\, Shropshire\, SY1 1PE\, United Kingdom
CATEGORIES:Branch Events,PTG Trips
ORGANIZER;CN="Contact the PTG Organiser%3A":MAILTO:ptg@saws.camra.org.uk
END:VEVENT
END:VCALENDAR