BEGIN:VCALENDAR
VERSION:2.0
PRODID:-//Shrewsbury and West Shropshire CAMRA - ECPv6.15.20//NONSGML v1.0//EN
CALSCALE:GREGORIAN
METHOD:PUBLISH
X-ORIGINAL-URL:https://saws.camra.org.uk
X-WR-CALDESC:Events for Shrewsbury and West Shropshire CAMRA
REFRESH-INTERVAL;VALUE=DURATION:PT1H
X-Robots-Tag:noindex
X-PUBLISHED-TTL:PT1H
BEGIN:VTIMEZONE
TZID:Europe/London
BEGIN:DAYLIGHT
TZOFFSETFROM:+0000
TZOFFSETTO:+0100
TZNAME:BST
DTSTART:20250330T010000
END:DAYLIGHT
BEGIN:STANDARD
TZOFFSETFROM:+0100
TZOFFSETTO:+0000
TZNAME:GMT
DTSTART:20251026T010000
END:STANDARD
BEGIN:DAYLIGHT
TZOFFSETFROM:+0000
TZOFFSETTO:+0100
TZNAME:BST
DTSTART:20260329T010000
END:DAYLIGHT
BEGIN:STANDARD
TZOFFSETFROM:+0100
TZOFFSETTO:+0000
TZNAME:GMT
DTSTART:20261025T010000
END:STANDARD
BEGIN:DAYLIGHT
TZOFFSETFROM:+0000
TZOFFSETTO:+0100
TZNAME:BST
DTSTART:20270328T010000
END:DAYLIGHT
BEGIN:STANDARD
TZOFFSETFROM:+0100
TZOFFSETTO:+0000
TZNAME:GMT
DTSTART:20271031T010000
END:STANDARD
END:VTIMEZONE
BEGIN:VEVENT
DTSTART;TZID=Europe/London:20260421T190000
DTEND;TZID=Europe/London:20260421T210000
DTSTAMP:20260421T095731
CREATED:20260128T143809Z
LAST-MODIFIED:20260128T143903Z
UID:11187-1776798000-1776805200@saws.camra.org.uk
SUMMARY:Festival Working Party
DESCRIPTION:Shrewsbury & West Shropshire CAMRA festival working party\, organising the next Shrewsbury Beer Festival. The meeting will be held at the Prince of Wales in Shrewsbury. Members and non-members welcome. \n\n\n\nNote that this meeting was meant to be on Tuesday 6th January but was moved due to weather conditions. Also note that the start time for the festival meetings is 7:15pm\, to give people who are getting the train to Shrewsbury time to walk across town. \n\n\n\nFor more information on these meetings\, see the Festival Working Party section on the About Our Events page.
URL:https://saws.camra.org.uk/whats-on/festival-working-party-38/
LOCATION:Prince of Wales\, 30 Bynner St\, Shrewsbury\, SY3 7NZ\, United Kingdom
CATEGORIES:Festival Meetings
ORGANIZER;CN="Contact the Meeting Organiser%3A":MAILTO:chair@saws.camra.org.uk
END:VEVENT
BEGIN:VEVENT
DTSTART;TZID=Europe/London:20260424T190000
DTEND;TZID=Europe/London:20260424T233000
DTSTAMP:20260421T095731
CREATED:20251116T210420Z
LAST-MODIFIED:20260325T233039Z
UID:10896-1777057200-1777073400@saws.camra.org.uk
SUMMARY:Beer Bus Trip to Whitchurch
DESCRIPTION:Shrewsbury & West Shropshire CAMRA social and beer scoring trip by minibus from Shrewsbury to Whitchurch. Departing at 7pm from the bus stop layby on Smithfield Road\, just the other side of the Frankwell footbridge from the Salopian Bar. Members and non-members welcome. \n\n\n\nPlaces must be pre-booked with Pete Morgan Jones – he can be contacted using the email address below. \n\n\n\nFor more information about our Beer Bus trips\, please see the About Our Events page.
URL:https://saws.camra.org.uk/whats-on/beer-bus-trip-to-whitchurch-4/
LOCATION:Trip starts at Salopian Bar\, 29 Smithfield Road\, Shrewsbury\, Shropshire\, SY1 1PB\, United Kingdom
CATEGORIES:Beer Bus Trips,Branch Events
ORGANIZER;CN="Contact the Beer Bus Organiser%3A":MAILTO:social@saws.camra.org.uk
END:VEVENT
BEGIN:VEVENT
DTSTART;TZID=Europe/London:20260428T190000
DTEND;TZID=Europe/London:20260428T210000
DTSTAMP:20260421T095731
CREATED:20260128T145237Z
LAST-MODIFIED:20260128T145322Z
UID:11193-1777402800-1777410000@saws.camra.org.uk
SUMMARY:Branch Meeting
DESCRIPTION:Shrewsbury & West Shropshire CAMRA branch meeting at the Admiral Benbow (TBC) in Shrewsbury. Members and non-members are welcome. \n\n\n\nNote that the start time for branch meetings will be 7:15pm\, to give people who are getting the train to Shrewsbury time to walk across town. \n\n\n\nFor more information on what happens in Branch meetings\, please see the Branch Management section in the Our Branch page.
URL:https://saws.camra.org.uk/whats-on/branch-meeting-36/
LOCATION:Admiral Benbow\, 24 Swan Hill\, Shrewsbury\, Shropshire\, SY1 1NF\, United Kingdom
CATEGORIES:Branch Meetings
ORGANIZER;CN="Contact the Meeting Organiser%3A":MAILTO:chair@saws.camra.org.uk
END:VEVENT
END:VCALENDAR